BEGIN:VCALENDAR
CALSCALE:GREGORIAN
METHOD:PUBLISH
PRODID:-//github.com/ical-org/ical.net//NONSGML ical.net 4.0//EN
VERSION:2.0
X-WR-TIMEZONE:US/Eastern
BEGIN:VEVENT
CATEGORIES:Boards & Commissions
CATEGORIES:Museums
CATEGORIES:Parade
DESCRIPTION:To verify info please see https://apps.alexandriava.gov/Calend
 ar/Detail.aspx?si=59608\n\nA meeting of the George Washington Birthday Ce
 lebration Committee (GWBCC). \n\nLocation: Lloyd House\, 220 N. Washingto
 n St.\nAudience: Anyone may attend\nTags: Boards & Commissions\, Museums\
 , Parade\n\nWeb resources:\n\nMeeting Agenda\nhttps://www.alexandriava.go
 v/sites/default/files/2025-06/gwbccagenda20250616.pdf\n
DTEND:20250617T010000Z
DTSTAMP:20250612T200038Z
DTSTART:20250616T230000Z
GEO:38.807209;-77.046797
LOCATION:Lloyd House\, 220 N. Washington St.
SEQUENCE:6
STATUS:CONFIRMED
SUMMARY:George Washington Birthday Celebration Committee
TRANSP:OPAQUE
UID:04343036-5d2b-4100-8d09-aa4478cb67d5
URL:https://www.alexandriava.gov/sites/default/files/2025-06/gwbccagenda20
 250616.pdf
X-ALT-DESC;FMTTYPE=text/html:To verify info please see <a href="https://ap
 ps.alexandriava.gov/Calendar/Detail.aspx?si=59608">https://apps.alexandri
 ava.gov/Calendar/Detail.aspx?si=59608</a><br />\n<br />A meeting of the G
 eorge Washington Birthday Celebration Committee (GWBCC). \n<br />\n<br />
 Location: Lloyd House\, 220 N. Washington St.\n<br />Audience: Anyone may
  attend\n<br />Tags: Boards &amp\; Commissions\, Museums\, Parade<br>\n<a
  href="https://www.alexandriava.gov/sites/default/files/2025-06/gwbccagen
 da20250616.pdf">Meeting Agenda</a><br>\n
X-COA-DTSTAMP:20250612T200038Z
END:VEVENT
END:VCALENDAR
