BEGIN:VCALENDAR
CALSCALE:GREGORIAN
METHOD:PUBLISH
PRODID:-//github.com/ical-org/ical.net//NONSGML ical.net 4.0//EN
VERSION:2.0
X-WR-TIMEZONE:US/Eastern
BEGIN:VEVENT
CATEGORIES:Recreation
CATEGORIES:Recreation Centers
DESCRIPTION:To verify info please see https://apps.alexandriava.gov/Calend
 ar/Detail.aspx?si=59606\n\nJoin RPCA's Alexandria Mentorship Partnership 
 program and have the opportunity to talk to program staff & mentors\, rec
 eive information for each available program\, and sign up as prospective 
 mentor!  \n\nLocation: Beatley Library\, 5005 Duke St.\nContact Person: M
 adeline Nance \nContact Email: madeline.nance@alexandriava.gov\nAudience:
  Anyone may attend\nTags: Recreation\, Recreation Centers
DTEND:20250624T233000Z
DTSTAMP:20250610T204015Z
DTSTART:20250624T210000Z
GEO:38.812393;-77.117704
LOCATION:Beatley Library\, 5005 Duke St.
SEQUENCE:9
STATUS:CONFIRMED
SUMMARY:Alexandria Mentoring Partnership Open House
TRANSP:OPAQUE
UID:47bdf8aa-b2e5-410f-8e08-25266ebc5bae
X-ALT-DESC;FMTTYPE=text/html:To verify info please see <a href="https://ap
 ps.alexandriava.gov/Calendar/Detail.aspx?si=59606">https://apps.alexandri
 ava.gov/Calendar/Detail.aspx?si=59606</a><br />\n<br />Join RPCA&#39\;s A
 lexandria Mentorship Partnership program and have the opportunity to talk
  to program staff &amp\; mentors\, receive information for each available
  program\, and sign up as prospective mentor!  \n<br />\n<br />Location: 
 Beatley Library\, 5005 Duke St.\n<br />Contact Person: Madeline Nance \n<
 br />Contact Email: madeline.nance@alexandriava.gov\n<br />Audience: Anyo
 ne may attend\n<br />Tags: Recreation\, Recreation Centers
X-COA-DTSTAMP:20250610T204015Z
END:VEVENT
END:VCALENDAR
