BEGIN:VCALENDAR
CALSCALE:GREGORIAN
METHOD:PUBLISH
PRODID:-//github.com/ical-org/ical.net//NONSGML ical.net 4.0//EN
VERSION:2.0
X-WR-TIMEZONE:US/Eastern
BEGIN:VEVENT
CATEGORIES:DCHS
DESCRIPTION:To verify info please see https://apps.alexandriava.gov/Calend
 ar/Detail.aspx?si=59596\n\nCity of Alexandria residents may register for 
 free personal finance and career building workshops by calling 703.746.57
 00 or email brandon.hare@alexandriava.gov. Space is limited and registrat
 ion is required. See flyer for details.\n\nLocation:  Virtual Only\nConta
 ct Person: Brandon Hare\nContact Phone: 703.746.5700\nContact Email: bran
 don.hare@alexandriava.gov\nAudience: Anyone may attend\nTags: DCHS\n\nWeb
  resources:\n\nView flyer\nhttps://www.alexandriava.gov/sites/default/fil
 es/2025-06/personal_finance_and_career_building_workshops_template_june-j
 uly.pdf\n
DTEND:20250702T000001Z
DTSTAMP:20250609T142935Z
DTSTART:20250701T230000Z
LOCATION: Virtual Only
SEQUENCE:5
STATUS:CONFIRMED
SUMMARY:Personal Finance and Career Building Workshops
TRANSP:OPAQUE
UID:a66e56ba-a8cd-4fa6-b010-c1ec458fa9e0
URL:https://www.alexandriava.gov/sites/default/files/2025-06/personal_fina
 nce_and_career_building_workshops_template_june-july.pdf
X-ALT-DESC;FMTTYPE=text/html:To verify info please see <a href="https://ap
 ps.alexandriava.gov/Calendar/Detail.aspx?si=59596">https://apps.alexandri
 ava.gov/Calendar/Detail.aspx?si=59596</a><br />\n<br />City of Alexandria
  residents may register for free personal finance and career building wor
 kshops by calling 703.746.5700 or email brandon.hare@alexandriava.gov. Sp
 ace is limited and registration is required. See flyer for details.\n<br 
 />\n<br />Location:  Virtual Only\n<br />Contact Person: Brandon Hare\n<b
 r />Contact Phone: 703.746.5700\n<br />Contact Email: brandon.hare@alexan
 driava.gov\n<br />Audience: Anyone may attend\n<br />Tags: DCHS<br>\n<a h
 ref="https://www.alexandriava.gov/sites/default/files/2025-06/personal_fi
 nance_and_career_building_workshops_template_june-july.pdf">View flyer</a
 ><br>\n
X-COA-DTSTAMP:20250609T142935Z
END:VEVENT
END:VCALENDAR
