BEGIN:VCALENDAR
CALSCALE:GREGORIAN
METHOD:PUBLISH
PRODID:-//github.com/ical-org/ical.net//NONSGML ical.net 4.0//EN
VERSION:2.0
X-WR-TIMEZONE:US/Eastern
BEGIN:VEVENT
CATEGORIES:Affordable Housing
DESCRIPTION:To verify info please see https://apps.alexandriava.gov/Calend
 ar/Detail.aspx?si=59592\n\nMeeting of the Investment Subcommittee of the 
 Alexandria Housing Affordability Advisory Committee (AHAAC).\n\nPlease us
 e the Zoom registration link below to sign up to attend. You will receive
  the Zoom invitation after registering.\n\nLocation:  Virtual Only\nConta
 ct Person: Christopher Do\nContact Phone: 703.746.3084\nContact Email: ch
 ristopher.do@alexandriava.gov\nAudience: Anyone may attend\nTags: Afforda
 ble Housing
DTEND:20250616T160000Z
DTSTAMP:20250609T141140Z
DTSTART:20250616T150000Z
LOCATION: Virtual Only
SEQUENCE:5
STATUS:CONFIRMED
SUMMARY:VIRTUAL: AHAAC Investment Subcommittee Meeting
TRANSP:OPAQUE
UID:28eb14b9-cae7-4d54-9546-58c0fc7c46e9
X-ALT-DESC;FMTTYPE=text/html:To verify info please see <a href="https://ap
 ps.alexandriava.gov/Calendar/Detail.aspx?si=59592">https://apps.alexandri
 ava.gov/Calendar/Detail.aspx?si=59592</a><br />\n<br />Meeting of the Inv
 estment Subcommittee of the Alexandria Housing Affordability Advisory Com
 mittee (AHAAC).\n<br />\n<br />Please use the Zoom registration link belo
 w to sign up to attend. You will receive the Zoom invitation after regist
 ering.\n<br />\n<br />Location:  Virtual Only\n<br />Contact Person: Chri
 stopher Do\n<br />Contact Phone: 703.746.3084\n<br />Contact Email: chris
 topher.do@alexandriava.gov\n<br />Audience: Anyone may attend\n<br />Tags
 : Affordable Housing
X-COA-DTSTAMP:20250609T141140Z
END:VEVENT
END:VCALENDAR
