BEGIN:VCALENDAR
CALSCALE:GREGORIAN
METHOD:PUBLISH
PRODID:-//github.com/ical-org/ical.net//NONSGML ical.net 4.0//EN
VERSION:2.0
X-WR-TIMEZONE:US/Eastern
BEGIN:VEVENT
DESCRIPTION:To verify info please see https://apps.alexandriava.gov/Calend
 ar/Detail.aspx?si=59588\n\nThe Environmental Policy Commission will hold 
 their regular business meeting on 06/16/25. This meeting is in-person wit
 h a Zoom option\; advance registration is not required. Meeting materials
  will be posted to the EPC website in advance. Public comments will be re
 ceived at the start of the meeting.\n\nZoom Link:  https://zoom.us/j/9319
 7565118\nMeeting ID: 931 9756 5118\nPasscode: 543718\nDial in: 1 (301) 71
 5-8592  \n\n\nLocation: City Hall\, Room 2000\, 301 King St.\nContact Per
 son: Melissa Atwood\nContact Phone: 703.746.4136\nContact Email: melissa.
 atwood@alexandriava.gov\nAudience: Anyone may attend\n\nWeb resources:\n\
 nEPC Website\nhttps://www.alexandriava.gov/EPC\n
DTEND:20250617T013000Z
DTSTAMP:20250902T130503Z
DTSTART:20250616T233000Z
GEO:38.805587;-77.042801
LOCATION:City Hall\, Room 2000\, 301 King St.
SEQUENCE:6
STATUS:CONFIRMED
SUMMARY:Environmental Policy Commission\, Regular Meeting
TRANSP:OPAQUE
UID:3c221ee4-f647-4b8e-96b1-36278e26f7a4
URL:https://www.alexandriava.gov/EPC
X-ALT-DESC;FMTTYPE=text/html:To verify info please see <a href="https://ap
 ps.alexandriava.gov/Calendar/Detail.aspx?si=59588">https://apps.alexandri
 ava.gov/Calendar/Detail.aspx?si=59588</a><br />\n<br />The Environmental 
 Policy Commission will hold their regular business meeting on 06/16/25. T
 his meeting is in-person with a Zoom option\; advance registration is not
  required. Meeting materials will be posted to the EPC website in advance
 . Public comments will be received at the start of the meeting.\n<br />\n
 <br />Zoom Link:  https://zoom.us/j/93197565118\n<br />Meeting ID: 931 97
 56 5118\n<br />Passcode: 543718\n<br />Dial in: 1 (301) 715-8592  \n<br /
 >\n<br />\n<br />Location: City Hall\, Room 2000\, 301 King St.\n<br />Co
 ntact Person: Melissa Atwood\n<br />Contact Phone: 703.746.4136\n<br />Co
 ntact Email: melissa.atwood@alexandriava.gov\n<br />Audience: Anyone may 
 attend<br>\n<a href="https://www.alexandriava.gov/EPC">EPC Website</a><br
 >\n
X-COA-DTSTAMP:20250902T130503Z
END:VEVENT
END:VCALENDAR
