BEGIN:VCALENDAR
CALSCALE:GREGORIAN
METHOD:PUBLISH
PRODID:-//github.com/ical-org/ical.net//NONSGML ical.net 4.0//EN
VERSION:2.0
X-WR-TIMEZONE:US/Eastern
BEGIN:VEVENT
CATEGORIES:City Council
CATEGORIES:City Council Calendar
DESCRIPTION:To verify info please see https://apps.alexandriava.gov/Calend
 ar/Detail.aspx?si=59133\n\nLandmark Community Development Authority Board
  Meeting\n\nLocation: City Hall\, Council Chamber\, 301 King St.\nContact
  Person: Julian Gonsalves\nContact Email: julian.gonsalves@alexandriava.g
 ov\nAudience: Anyone may attend\nTags: City Council\, City Council Calend
 ar\n\nWeb resources:\n\nLandmark Community Development Authority meeting 
 materials\nhttps://www.alexandriava.gov/Landmark\n
DTEND:20250527T220000Z
DTSTAMP:20250522T194327Z
DTSTART:20250527T213000Z
GEO:38.805393;-77.043273
LOCATION:City Hall\, Council Chamber\, 301 King St.
SEQUENCE:6
STATUS:CONFIRMED
SUMMARY:Landmark Community Development Authority Board Mtg
TRANSP:TRANSPARENT
UID:d9740299-5eee-45d6-ab98-a1351a25aef6
URL:https://www.alexandriava.gov/Landmark
X-ALT-DESC;FMTTYPE=text/html:To verify info please see <a href="https://ap
 ps.alexandriava.gov/Calendar/Detail.aspx?si=59133">https://apps.alexandri
 ava.gov/Calendar/Detail.aspx?si=59133</a><br />\n<br />Landmark Community
  Development Authority Board Meeting\n<br />\n<br />Location: City Hall\,
  Council Chamber\, 301 King St.\n<br />Contact Person: Julian Gonsalves\n
 <br />Contact Email: julian.gonsalves@alexandriava.gov\n<br />Audience: A
 nyone may attend\n<br />Tags: City Council\, City Council Calendar<br>\n<
 a href="https://www.alexandriava.gov/Landmark">Landmark Community Develop
 ment Authority meeting materials</a><br>\n
X-COA-DTSTAMP:20250522T194327Z
END:VEVENT
END:VCALENDAR
