BEGIN:VCALENDAR
CALSCALE:GREGORIAN
METHOD:PUBLISH
PRODID:-//github.com/ical-org/ical.net//NONSGML ical.net 4.0//EN
VERSION:2.0
X-WR-TIMEZONE:US/Eastern
BEGIN:VEVENT
CATEGORIES:City Council
CATEGORIES:City Council Calendar
CATEGORIES:City Hall
DESCRIPTION:To verify info please see https://apps.alexandriava.gov/Calend
 ar/Detail.aspx?si=59123\n\nCity Council Public Hearing Meeting\n\nLocatio
 n: Del Pepper Community Resource Center\, 4850 Mark Center Drive\nContact
  Person: Gloria Sitton\nContact Email: CouncilComment@alexandriava.gov\nA
 udience: Anyone may attend\nTags: City Council\, City Council Calendar\, 
 City Hall
DTEND:20251115T200000Z
DTSTAMP:20251217T154132Z
DTSTART:20251115T143000Z
LOCATION:Del Pepper Community Resource Center\, 4850 Mark Center Drive
SEQUENCE:7
STATUS:CONFIRMED
SUMMARY:City Council Public Hearing Meeting
TRANSP:TRANSPARENT
UID:ffd042cf-f866-48bf-bd2d-121c2ae919bc
X-ALT-DESC;FMTTYPE=text/html:To verify info please see <a href="https://ap
 ps.alexandriava.gov/Calendar/Detail.aspx?si=59123">https://apps.alexandri
 ava.gov/Calendar/Detail.aspx?si=59123</a><br />\n<br />City Council Publi
 c Hearing Meeting\n<br />\n<br />Location: Del Pepper Community Resource 
 Center\, 4850 Mark Center Drive\n<br />Contact Person: Gloria Sitton\n<br
  />Contact Email: CouncilComment@alexandriava.gov\n<br />Audience: Anyone
  may attend\n<br />Tags: City Council\, City Council Calendar\, City Hall
X-COA-DTSTAMP:20251217T154132Z
END:VEVENT
END:VCALENDAR
