BEGIN:VCALENDAR
CALSCALE:GREGORIAN
METHOD:PUBLISH
PRODID:-//github.com/ical-org/ical.net//NONSGML ical.net 4.0//EN
VERSION:2.0
X-WR-TIMEZONE:US/Eastern
BEGIN:VEVENT
CATEGORIES:City Council
CATEGORIES:City Council Calendar
CATEGORIES:City Hall
DESCRIPTION:To verify info please see https://apps.alexandriava.gov/Calend
 ar/Detail.aspx?si=59118\n\nCity Council Legislative Meeting\n\nLocation: 
 Del Pepper Community Resource Center\, 4850 Mark Center Drive\nContact Pe
 rson: Gloria Sitton\nContact Email: CouncilComment@alexandriava.gov\nAudi
 ence: Anyone may attend\nTags: City Council\, City Council Calendar\, Cit
 y Hall
DTEND:20251029T030000Z
DTSTAMP:20251217T152803Z
DTSTART:20251028T230000Z
LOCATION:Del Pepper Community Resource Center\, 4850 Mark Center Drive
SEQUENCE:11
STATUS:CONFIRMED
SUMMARY:City Council Legislative Meeting
TRANSP:TRANSPARENT
UID:53edc6d9-2393-4d73-bfe2-04c8570b91bd
X-ALT-DESC;FMTTYPE=text/html:To verify info please see <a href="https://ap
 ps.alexandriava.gov/Calendar/Detail.aspx?si=59118">https://apps.alexandri
 ava.gov/Calendar/Detail.aspx?si=59118</a><br />\n<br />City Council Legis
 lative Meeting\n<br />\n<br />Location: Del Pepper Community Resource Cen
 ter\, 4850 Mark Center Drive\n<br />Contact Person: Gloria Sitton\n<br />
 Contact Email: CouncilComment@alexandriava.gov\n<br />Audience: Anyone ma
 y attend\n<br />Tags: City Council\, City Council Calendar\, City Hall
X-COA-DTSTAMP:20251217T152803Z
END:VEVENT
END:VCALENDAR
