BEGIN:VCALENDAR
CALSCALE:GREGORIAN
METHOD:PUBLISH
PRODID:-//github.com/ical-org/ical.net//NONSGML ical.net 4.0//EN
VERSION:2.0
X-WR-TIMEZONE:US/Eastern
BEGIN:VEVENT
CATEGORIES:Boards & Commissions
DESCRIPTION:To verify info please see https://apps.alexandriava.gov/Calend
 ar/Detail.aspx?si=59112\n\nIn-Person and Virtual Meeting. The June Traffi
 c and Parking Board meeting is being held in the City Hall Sister Cities 
 Conference Room on the ground floor of City Hall (301 King Street\, Alexa
 ndria\, Virginia\, 22314) and electronically. Members of the Traffic and 
 Parking Board and staff are participating either in person or from a remo
 te location through video conference call on Zoom. The meeting will be ac
 cessible via Zoom by registering at the link provided below.\n\nPublic co
 mment will be received at the meeting. There will be a public comment per
 iod at the beginning of the meeting and written testimony can be provided
  until 3 p.m. on 6/23/25 to TrafficandParkingBoard@alexandriava.gov\n\nTh
 e City of Alexandria complies with the terms of ADA. An individual with a
  disability who wishes to request an accommodation may contact the Depart
 ment of Transportation and Environmental Services at 703-746-4401 or TTY/
 TTD 703-838-5056.\n\nLocation: City Hall\, Sister Cities Room 1101\, 301 
 King St.\nContact Person: Sheila McGraw\nContact Phone: 703.746.4401\nCon
 tact Email: TrafficandParkingBoard@alexandriava.gov\nAudience: Anyone may
  attend\nTags: Boards & Commissions\n\nWeb resources:\n\nDocket Report He
 re\nhttps://www.alexandriava.gov/sites/default/files/2025-06/trafficparki
 ngboarddocketjune2025.pdf\n
DTEND:20250624T010000Z
DTSTAMP:20250623T144500Z
DTSTART:20250623T230000Z
GEO:38.805537;-77.042758
LOCATION:City Hall\, Sister Cities Room 1101\, 301 King St.
SEQUENCE:12
STATUS:CONFIRMED
SUMMARY:Traffic and Parking Board Meeting
TRANSP:OPAQUE
UID:dae47f14-df76-42dd-a3f8-db64af780539
URL:https://www.alexandriava.gov/sites/default/files/2025-06/trafficparkin
 gboarddocketjune2025.pdf
X-ALT-DESC;FMTTYPE=text/html:To verify info please see <a href="https://ap
 ps.alexandriava.gov/Calendar/Detail.aspx?si=59112">https://apps.alexandri
 ava.gov/Calendar/Detail.aspx?si=59112</a><br />\n<br />In-Person and Virt
 ual Meeting. The June Traffic and Parking Board meeting is being held in 
 the City Hall Sister Cities Conference Room on the ground floor of City H
 all (301 King Street\, Alexandria\, Virginia\, 22314) and electronically.
  Members of the Traffic and Parking Board and staff are participating eit
 her in person or from a remote location through video conference call on 
 Zoom. The meeting will be accessible via Zoom by registering at the link 
 provided below.\n<br />\n<br />Public comment will be received at the mee
 ting. There will be a public comment period at the beginning of the meeti
 ng and written testimony can be provided until 3 p.m. on 6/23/25 to Traff
 icandParkingBoard@alexandriava.gov\n<br />\n<br />The City of Alexandria 
 complies with the terms of ADA. An individual with a disability who wishe
 s to request an accommodation may contact the Department of Transportatio
 n and Environmental Services at 703-746-4401 or TTY/TTD 703-838-5056.\n<b
 r />\n<br />Location: City Hall\, Sister Cities Room 1101\, 301 King St.\
 n<br />Contact Person: Sheila McGraw\n<br />Contact Phone: 703.746.4401\n
 <br />Contact Email: TrafficandParkingBoard@alexandriava.gov\n<br />Audie
 nce: Anyone may attend\n<br />Tags: Boards &amp\; Commissions<br>\n<a hre
 f="https://www.alexandriava.gov/sites/default/files/2025-06/trafficparkin
 gboarddocketjune2025.pdf">Docket Report Here</a><br>\n
X-COA-DTSTAMP:20250623T144500Z
END:VEVENT
END:VCALENDAR
