BEGIN:VCALENDAR
CALSCALE:GREGORIAN
METHOD:PUBLISH
PRODID:-//github.com/ical-org/ical.net//NONSGML ical.net 4.0//EN
VERSION:2.0
X-WR-TIMEZONE:US/Eastern
BEGIN:VEVENT
CATEGORIES:DCHS
DESCRIPTION:To verify info please see https://apps.alexandriava.gov/Calend
 ar/Detail.aspx?si=59101\n\nJoin us at Bike for Good at the Old Town Farme
 rs' Market! \n\nLooking for a great volunteer opportunity? Help rescue fr
 esh produce from the market and deliver it to Alexandria residents in nee
 d.\n\nFor more information on how to volunteer\, contact SNAPEBT@alexandr
 iava.gov or search for "Bike for Good" at VolunteerAlexandria.org.\n\nFor
  reasonable disability accommodation\, contact SNAPEBT@alexandriava.gov o
 r call 703.746.5793 (Virginia Relay 711).\n\nLocation: City Hall\, 301 Ki
 ng St\nAudience: Anyone may attend\nTags: DCHS
DTEND:20250629T035900Z
DTSTAMP:20250519T142009Z
DTSTART:20250628T153000Z
LOCATION:City Hall\, 301 King St
SEQUENCE:7
STATUS:CONFIRMED
SUMMARY:Bike for Good
TRANSP:OPAQUE
UID:9598dc46-3849-4b2e-9db4-512f2402f6dd
X-ALT-DESC;FMTTYPE=text/html:To verify info please see <a href="https://ap
 ps.alexandriava.gov/Calendar/Detail.aspx?si=59101">https://apps.alexandri
 ava.gov/Calendar/Detail.aspx?si=59101</a><br />\n<br />Join us at Bike fo
 r Good at the Old Town Farmers&#39\; Market! \n<br />\n<br />Looking for 
 a great volunteer opportunity? Help rescue fresh produce from the market 
 and deliver it to Alexandria residents in need.\n<br />\n<br />For more i
 nformation on how to volunteer\, contact SNAPEBT@alexandriava.gov or sear
 ch for ?Bike for Good? at VolunteerAlexandria.org.\n<br />\n<br />For rea
 sonable disability accommodation\, contact SNAPEBT@alexandriava.gov or ca
 ll 703.746.5793 (Virginia Relay 711).\n<br />\n<br />Location: City Hall\
 , 301 King St\n<br />Audience: Anyone may attend\n<br />Tags: DCHS
X-COA-DTSTAMP:20250519T142009Z
END:VEVENT
END:VCALENDAR
