BEGIN:VCALENDAR
CALSCALE:GREGORIAN
METHOD:PUBLISH
PRODID:-//github.com/ical-org/ical.net//NONSGML ical.net 4.0//EN
VERSION:2.0
X-WR-TIMEZONE:US/Eastern
BEGIN:VEVENT
CATEGORIES:Adult
CATEGORIES:Boards & Commissions
CATEGORIES:DCHS
DESCRIPTION:To verify info please see https://apps.alexandriava.gov/Calend
 ar/Detail.aspx?si=59060\n\nRegular Monthly Meeting -In-Person-\nRoom 1305
 A\n\nLocation: Del Pepper Community Resource Center\, 4850 Mark Center Dr
 ive\nContact Person: Lesa Gilbert\nContact Phone: 703.746.3132\nContact E
 mail: lesa.gilbert@alexandriava.gov\nAudience: Anyone may attend\nTags: A
 dult\, Boards & Commissions\, DCHS
DTEND:20250617T010000Z
DTSTAMP:20250512T141647Z
DTSTART:20250616T230000Z
LOCATION:Del Pepper Community Resource Center\, 4850 Mark Center Drive
SEQUENCE:5
STATUS:CONFIRMED
SUMMARY:Social Services Advisory Board (SSAB)
TRANSP:TRANSPARENT
UID:8c169f38-2eb5-47d5-8bd0-e6548310029a
X-ALT-DESC;FMTTYPE=text/html:To verify info please see <a href="https://ap
 ps.alexandriava.gov/Calendar/Detail.aspx?si=59060">https://apps.alexandri
 ava.gov/Calendar/Detail.aspx?si=59060</a><br />\n<br />Regular Monthly Me
 eting -In-Person-\n<br />Room 1305A\n<br />\n<br />Location: Del Pepper C
 ommunity Resource Center\, 4850 Mark Center Drive\n<br />Contact Person: 
 Lesa Gilbert\n<br />Contact Phone: 703.746.3132\n<br />Contact Email: les
 a.gilbert@alexandriava.gov\n<br />Audience: Anyone may attend\n<br />Tags
 : Adult\, Boards &amp\; Commissions\, DCHS
X-COA-DTSTAMP:20250512T141647Z
END:VEVENT
END:VCALENDAR
