BEGIN:VCALENDAR
CALSCALE:GREGORIAN
METHOD:PUBLISH
PRODID:-//github.com/ical-org/ical.net//NONSGML ical.net 4.0//EN
VERSION:2.0
X-WR-TIMEZONE:US/Eastern
BEGIN:VEVENT
CATEGORIES:Community Meeting
CATEGORIES:Community Outreach
CATEGORIES:Construction
CATEGORIES:DPI
CATEGORIES:T&ES Events
CATEGORIES:Transportation
DESCRIPTION:To verify info please see https://apps.alexandriava.gov/Calend
 ar/Detail.aspx?si=59056\n\nOn Monday\, June 30 from 6 to 7 p.m.\, the Cit
 y of Alexandria invites community members to a construction information m
 eeting about repairs planned for the overpass bridge linking Duke Street 
 and Ben Brenman Park near Cameron Station in southwestern Alexandria.\n\n
 Staff and the contractor for the Cameron Station Overpass Over Duke Stree
 t Bridge Repair Project will give a presentation at Charles E. Beatley Jr
 . Central Library in the large meeting room (5005 Duke Street) on the con
 struction plans\, work hours\, parking restrictions\, lane closures\, and
  more\, as well as answer questions from the community. \n\nVirtual atten
 dance via Zoom is also available. Registration is required. Please comple
 te the following form to receive the meeting link and passcode: zoom.us/w
 ebinar/register/WN_uaI4VS-nTgWAVMxYMLeMEQ\n\nLocation: Beatley Library\, 
 5005 Duke St.\nContact Person: Ayoub Hassen\nContact Phone: 703.746.4635\
 nContact Email: Ayoub.Hassen@alexandriava.gov\nAudience: Anyone may atten
 d\nTags: Community Meeting\, Community Outreach\, Construction \, DPI\, T
 &ES Events\, Transportation\n\nWeb resources:\n\nBridge Repairs: Cameron 
 Overpass Over Duke Street\nhttps://www.alexandriava.gov/capital-projects/
 project/bridge-repairs-cameron-overpass-over-duke-street\n
DTEND:20250630T230000Z
DTSTAMP:20250624T141142Z
DTSTART:20250630T220000Z
GEO:38.812393;-77.117704
LOCATION:Beatley Library\, 5005 Duke St.
SEQUENCE:8
STATUS:CONFIRMED
SUMMARY:Cameron Station Bridge Construction Public Meeting
TRANSP:OPAQUE
UID:0b1ee9e0-b12d-46e4-8504-4c8a588db0c2
URL:https://www.alexandriava.gov/capital-projects/project/bridge-repairs-c
 ameron-overpass-over-duke-street
X-ALT-DESC;FMTTYPE=text/html:To verify info please see <a href="https://ap
 ps.alexandriava.gov/Calendar/Detail.aspx?si=59056">https://apps.alexandri
 ava.gov/Calendar/Detail.aspx?si=59056</a><br />\n<br />On Monday\, June 3
 0 from 6 to 7 p.m.\, the City of Alexandria invites community members to 
 a construction information meeting about repairs planned for the overpass
  bridge linking Duke Street and Ben Brenman Park near Cameron Station in 
 southwestern Alexandria.\n<br />\n<br />Staff and the contractor for the 
 Cameron Station Overpass Over Duke Street Bridge Repair Project will give
  a presentation at Charles E. Beatley Jr. Central Library in the large me
 eting room (5005 Duke Street) on the construction plans\, work hours\, pa
 rking restrictions\, lane closures\, and more\, as well as answer questio
 ns from the community. \n<br />\n<br />Virtual attendance via Zoom is als
 o available. Registration is required. Please complete the following form
  to receive the meeting link and passcode: zoom.us/webinar/register/WN_ua
 I4VS-nTgWAVMxYMLeMEQ\n<br />\n<br />Location: Beatley Library\, 5005 Duke
  St.\n<br />Contact Person: Ayoub Hassen\n<br />Contact Phone: 703.746.46
 35\n<br />Contact Email: Ayoub.Hassen@alexandriava.gov\n<br />Audience: A
 nyone may attend\n<br />Tags: Community Meeting\, Community Outreach\, Co
 nstruction \, DPI\, T&amp\;ES Events\, Transportation<br>\n<a href="https
 ://www.alexandriava.gov/capital-projects/project/bridge-repairs-cameron-o
 verpass-over-duke-street">Bridge Repairs: Cameron Overpass Over Duke Stre
 et</a><br>\n
X-COA-DTSTAMP:20250624T141142Z
END:VEVENT
END:VCALENDAR
