BEGIN:VCALENDAR
CALSCALE:GREGORIAN
METHOD:PUBLISH
PRODID:-//github.com/ical-org/ical.net//NONSGML ical.net 4.0//EN
VERSION:2.0
X-WR-TIMEZONE:US/Eastern
BEGIN:VEVENT
CATEGORIES:Community Meeting
CATEGORIES:Community Outreach
CATEGORIES:Duke Street Land Use Plan
CATEGORIES:West End
DESCRIPTION:To verify info please see https://apps.alexandriava.gov/Calend
 ar/Detail.aspx?si=59049\n\nJoin us at the King St-Old Town Metrorail Stat
 ion (1900 King St) to learn more about the Duke Street Land Use Plan proc
 ess and share your feedback!\n\nFor more information\, visit alexandriava
 .gov/DukeStreetPlan.\n\nAdditional Questions?\nContact Christian Brandt\,
 \nUrban Planner | 703.746.3859\nChristian.Brandt@alexandriava.gov\n\n\n\n
 Location: King Street Metro\nContact Person: Christian Brandt\nContact Ph
 one: 703.746.3859\nContact Email: Christian.Brandt@alexandriava.gov\nAudi
 ence: Anyone may attend\nTags: Community Meeting\, Community Outreach\, D
 uke Street Land Use Plan\, West End
DTEND:20250616T230000Z
DTSTAMP:20250616T192709Z
DTSTART:20250616T210000Z
LOCATION:King Street Metro
SEQUENCE:7
STATUS:CANCELLED
SUMMARY:CANCELLED: Duke Street Land Use Plan Pop-Up
TRANSP:TRANSPARENT
UID:0ac9b01e-e99a-42ed-84dc-aae2ef588697
X-ALT-DESC;FMTTYPE=text/html:To verify info please see <a href="https://ap
 ps.alexandriava.gov/Calendar/Detail.aspx?si=59049">https://apps.alexandri
 ava.gov/Calendar/Detail.aspx?si=59049</a><br />\n<br />Join us at the Kin
 g St-Old Town Metrorail Station (1900 King St) to learn more about the Du
 ke Street Land Use Plan process and share your feedback!\n<br />\n<br />F
 or more information\, visit alexandriava.gov/DukeStreetPlan.\n<br />\n<br
  />Additional Questions?\n<br />Contact Christian Brandt\,\n<br />Urban P
 lanner | 703.746.3859\n<br />Christian.Brandt@alexandriava.gov\n<br />\n<
 br />\n<br />\n<br />Location: King Street Metro\n<br />Contact Person: C
 hristian Brandt\n<br />Contact Phone: 703.746.3859\n<br />Contact Email: 
 Christian.Brandt@alexandriava.gov\n<br />Audience: Anyone may attend\n<br
  />Tags: Community Meeting\, Community Outreach\, Duke Street Land Use Pl
 an\, West End
X-COA-DTSTAMP:20250616T192709Z
END:VEVENT
END:VCALENDAR
