BEGIN:VCALENDAR
CALSCALE:GREGORIAN
METHOD:PUBLISH
PRODID:-//github.com/ical-org/ical.net//NONSGML ical.net 4.0//EN
VERSION:2.0
X-WR-TIMEZONE:US/Eastern
BEGIN:VEVENT
CATEGORIES:Community Meeting
CATEGORIES:Community Outreach
CATEGORIES:Duke Street Land Use Plan
CATEGORIES:West End
DESCRIPTION:To verify info please see https://apps.alexandriava.gov/Calend
 ar/Detail.aspx?si=59048\n\nJoin us at Handy Bikes (3800 Wheeler Ave\, Ale
 xandria\, VA 22304) to learn more about the Duke Street Land Use Plan pro
 cess and share your feedback!\n\nFor more information\, visit alexandriav
 a.gov/DukeStreetPlan.\n\nAdditional Questions?\nContact Christian Brandt\
 ,\nUrban Planner | 703.746.3859\nChristian.Brandt@alexandriava.gov\n\n\n\
 nLocation: Handy Bikes\nContact Person: Christian Brandt\nContact Phone: 
 703.746.3859\nContact Email: Christian.Brandt@alexandriava.gov\nAudience:
  Anyone may attend\nTags: Community Meeting\, Community Outreach\, Duke S
 treet Land Use Plan\, West End
DTEND:20250602T220000Z
DTSTAMP:20250528T181643Z
DTSTART:20250602T200000Z
LOCATION:Handy Bikes
SEQUENCE:6
STATUS:CONFIRMED
SUMMARY:Duke Street Land Use Plan Pop-Up
TRANSP:OPAQUE
UID:33b7a16c-01d5-4014-88bc-3db072c65822
X-ALT-DESC;FMTTYPE=text/html:To verify info please see <a href="https://ap
 ps.alexandriava.gov/Calendar/Detail.aspx?si=59048">https://apps.alexandri
 ava.gov/Calendar/Detail.aspx?si=59048</a><br />\n<br />Join us at Handy B
 ikes (3800 Wheeler Ave\, Alexandria\, VA 22304) to learn more about the D
 uke Street Land Use Plan process and share your feedback!\n<br />\n<br />
 For more information\, visit alexandriava.gov/DukeStreetPlan.\n<br />\n<b
 r />Additional Questions?\n<br />Contact Christian Brandt\,\n<br />Urban 
 Planner | 703.746.3859\n<br />Christian.Brandt@alexandriava.gov\n<br />\n
 <br />\n<br />\n<br />Location: Handy Bikes\n<br />Contact Person: Christ
 ian Brandt\n<br />Contact Phone: 703.746.3859\n<br />Contact Email: Chris
 tian.Brandt@alexandriava.gov\n<br />Audience: Anyone may attend\n<br />Ta
 gs: Community Meeting\, Community Outreach\, Duke Street Land Use Plan\, 
 West End
X-COA-DTSTAMP:20250528T181643Z
END:VEVENT
END:VCALENDAR
