BEGIN:VCALENDAR
CALSCALE:GREGORIAN
METHOD:PUBLISH
PRODID:-//github.com/ical-org/ical.net//NONSGML ical.net 4.0//EN
VERSION:2.0
X-WR-TIMEZONE:US/Eastern
BEGIN:VEVENT
CATEGORIES:Community Meeting
CATEGORIES:Community Outreach
CATEGORIES:Duke Street Land Use Plan
CATEGORIES:West End
DESCRIPTION:To verify info please see https://apps.alexandriava.gov/Calend
 ar/Detail.aspx?si=59045\n\nJoin us at the Port City Brewing Company Summe
 r Concert Series (3950 Wheeler Ave) to learn more about the Duke Street L
 and Use Plan process and share your feedback!\n\nFor more information\, v
 isit alexandriava.gov/DukeStreetPlan.\n\nAdditional Questions?\nContact C
 hristian Brandt\,\nUrban Planner | 703.746.3859\nChristian.Brandt@alexand
 riava.gov\n\n\n\nLocation: Port City Brewing Company\nAudience: Anyone ma
 y attend\nTags: Community Meeting\, Community Outreach\, Duke Street Land
  Use Plan\, West End
DTEND:20250516T230000Z
DTSTAMP:20250508T184202Z
DTSTART:20250516T210000Z
LOCATION:Port City Brewing Company
SEQUENCE:6
STATUS:CONFIRMED
SUMMARY:Duke Street Land Use Plan Pop-Up
TRANSP:OPAQUE
UID:9e755d82-554a-4989-8863-7b8c1bfc042a
X-ALT-DESC;FMTTYPE=text/html:To verify info please see <a href="https://ap
 ps.alexandriava.gov/Calendar/Detail.aspx?si=59045">https://apps.alexandri
 ava.gov/Calendar/Detail.aspx?si=59045</a><br />\n<br />Join us at the Por
 t City Brewing Company Summer Concert Series (3950 Wheeler Ave) to learn 
 more about the Duke Street Land Use Plan process and share your feedback!
 \n<br />\n<br />For more information\, visit alexandriava.gov/DukeStreetP
 lan.\n<br />\n<br />Additional Questions?\n<br />Contact Christian Brandt
 \,\n<br />Urban Planner | 703.746.3859\n<br />Christian.Brandt@alexandria
 va.gov\n<br />\n<br />\n<br />\n<br />Location: Port City Brewing Company
 \n<br />Audience: Anyone may attend\n<br />Tags: Community Meeting\, Comm
 unity Outreach\, Duke Street Land Use Plan\, West End
X-COA-DTSTAMP:20250508T184202Z
END:VEVENT
END:VCALENDAR
