BEGIN:VCALENDAR
CALSCALE:GREGORIAN
METHOD:PUBLISH
PRODID:-//github.com/ical-org/ical.net//NONSGML ical.net 4.0//EN
VERSION:2.0
X-WR-TIMEZONE:US/Eastern
BEGIN:VEVENT
CATEGORIES:Boards & Commissions
CATEGORIES:Commission Meeting
CATEGORIES:Eco-City
CATEGORIES:Environment
CATEGORIES:Environmental Policy Commission (EPC)
CATEGORIES:Green Buildings
CATEGORIES:Planning Commission
CATEGORIES:T&ES Events
DESCRIPTION:To verify info please see https://apps.alexandriava.gov/Calend
 ar/Detail.aspx?si=59043\n\nPlanning Commission & Environmental Policy Com
 mission will hold a working group meeting on 5/16/25 to discuss informati
 on for a Green Building Policy joint letter.  This meeting is virtual onl
 y via Zoom\; advance registration is not required.\n\nZoom Link: https://
 zoom.us/j/98650245409\nMeeting ID: 986 5024 5409\nPasscode: 352508\nDial 
 in: 1 (301) 715-8592  \n\nLocation:  Virtual Only\nContact Person: Meliss
 a Atwood\nContact Phone: 703.746.4065\nContact Email: melissa.atwood@alex
 andriava.gov\nAudience: Anyone may attend\nTags: Boards & Commissions\, C
 ommission Meeting\, Eco-City\, Environment\, Environmental Policy Commiss
 ion (EPC)\, Green Buildings\, Planning Commission\, T&ES Events\n\nWeb re
 sources:\n\nEPC Website\nhttps://www.alexandriava.gov/EPC\n
DTEND:20250516T220000Z
DTSTAMP:20250509T164505Z
DTSTART:20250516T200000Z
LOCATION: Virtual Only
SEQUENCE:7
STATUS:CONFIRMED
SUMMARY:PC/EPC Working Group Meeting: GBP Update Letter
TRANSP:OPAQUE
UID:1620a2bb-ab05-42c6-b8b5-2598477c3de9
URL:https://www.alexandriava.gov/EPC
X-ALT-DESC;FMTTYPE=text/html:To verify info please see <a href="https://ap
 ps.alexandriava.gov/Calendar/Detail.aspx?si=59043">https://apps.alexandri
 ava.gov/Calendar/Detail.aspx?si=59043</a><br />\n<br />Planning Commissio
 n &amp\; Environmental Policy Commission will hold a working group meetin
 g on 5/16/25 to discuss information for a Green Building Policy joint let
 ter.  This meeting is virtual only via Zoom\; advance registration is not
  required.\n<br />\n<br />Zoom Link: https://zoom.us/j/98650245409\n<br /
 >Meeting ID: 986 5024 5409\n<br />Passcode: 352508\n<br />Dial in: 1 (301
 ) 715-8592  \n<br />\n<br />Location:  Virtual Only\n<br />Contact Person
 : Melissa Atwood\n<br />Contact Phone: 703.746.4065\n<br />Contact Email:
  melissa.atwood@alexandriava.gov\n<br />Audience: Anyone may attend\n<br 
 />Tags: Boards &amp\; Commissions\, Commission Meeting\, Eco-City\, Envir
 onment\, Environmental Policy Commission (EPC)\, Green Buildings\, Planni
 ng Commission\, T&amp\;ES Events<br>\n<a href="https://www.alexandriava.g
 ov/EPC">EPC Website</a><br>\n
X-COA-DTSTAMP:20250509T164505Z
END:VEVENT
END:VCALENDAR
