BEGIN:VCALENDAR
CALSCALE:GREGORIAN
METHOD:PUBLISH
PRODID:-//github.com/ical-org/ical.net//NONSGML ical.net 4.0//EN
VERSION:2.0
X-WR-TIMEZONE:US/Eastern
BEGIN:VEVENT
CATEGORIES:Cleanup
CATEGORIES:Eco-City
CATEGORIES:Environment
CATEGORIES:Stormwater
CATEGORIES:Streams
CATEGORIES:T&ES Events
DESCRIPTION:To verify info please see https://apps.alexandriava.gov/Calend
 ar/Detail.aspx?si=59033\n\nOn Saturday\, June 7\, the Department of Trans
 portation and Environmental Services invites the community to participate
  in the Chesapeake Bay Foundation's annual Clean the Bay Day stream clean
 up. The cleanup will be held rain or shine at Oronoco Bay Park.\nThe City
  will provide gloves\, trash bags\, and first aid kits. Participants are 
 encouraged to bring sunscreen\, water\, and dress appropriately in long p
 ants and closed-toe shoes. \n\nLocation: Oronoco Bay Park\, 100 Madison S
 t.\nContact Person: Anthony Minnick\nContact Email: anthony.minnick@alexa
 ndriava.gov\nAudience: Anyone may attend\nTags: Cleanup\, Eco-City\, Envi
 ronment\, Stormwater\, Streams\, T&ES Events
DTEND:20250607T150000Z
DTSTAMP:20250506T200638Z
DTSTART:20250607T130000Z
GEO:38.811314;-77.039566
LOCATION:Oronoco Bay Park\, 100 Madison St.
SEQUENCE:5
STATUS:CONFIRMED
SUMMARY:Clean the Bay Day Stream Cleanup
TRANSP:OPAQUE
UID:90a04dd6-d713-4e65-98c6-adeb0660ac9e
X-ALT-DESC;FMTTYPE=text/html:To verify info please see <a href="https://ap
 ps.alexandriava.gov/Calendar/Detail.aspx?si=59033">https://apps.alexandri
 ava.gov/Calendar/Detail.aspx?si=59033</a><br />\n<br />On Saturday\, June
  7\, the Department of Transportation and Environmental Services invites 
 the community to participate in the Chesapeake Bay Foundation&#39\;s annu
 al Clean the Bay Day stream cleanup. The cleanup will be held rain or shi
 ne at Oronoco Bay Park.\n<br />The City will provide gloves\, trash bags\
 , and first aid kits. Participants are encouraged to bring sunscreen\, wa
 ter\, and dress appropriately in long pants and closed-toe shoes. \n<br /
 >\n<br />Location: Oronoco Bay Park\, 100 Madison St.\n<br />Contact Pers
 on: Anthony Minnick\n<br />Contact Email: anthony.minnick@alexandriava.go
 v\n<br />Audience: Anyone may attend\n<br />Tags: Cleanup\, Eco-City\, En
 vironment\, Stormwater\, Streams\, T&amp\;ES Events
X-COA-DTSTAMP:20250506T200638Z
END:VEVENT
END:VCALENDAR
