BEGIN:VCALENDAR
CALSCALE:GREGORIAN
METHOD:PUBLISH
PRODID:-//github.com/ical-org/ical.net//NONSGML ical.net 4.0//EN
VERSION:2.0
X-WR-TIMEZONE:US/Eastern
BEGIN:VEVENT
CATEGORIES:America250
CATEGORIES:Fort Ward Museum
CATEGORIES:Fort Ward Park
CATEGORIES:Museums
DESCRIPTION:To verify info please see https://apps.alexandriava.gov/Calend
 ar/Detail.aspx?si=58988\n\nJoin us at Fort Ward for a special outdoor con
 cert of Civil War-era music by the 8th Green Machine (GM) Regiment Band a
 t 11 a.m. on the Museum lawn. Sponsored by George Mason University\, this
  historical brass ensemble presents music of the 19th century on authenti
 c period instruments. \n\nLocation: Fort Ward Museum\, 4301 W. Braddock R
 d.\nFees: Suggested donation: $2/$5 family\nAudience: Anyone may attend\n
 Tags: America250\, Fort Ward Museum\, Fort Ward Park\, Museums
DTEND:20250614T160000Z
DTSTAMP:20250606T173439Z
DTSTART:20250614T150000Z
GEO:38.829553;-77.101740
LOCATION:Fort Ward Museum\, 4301 W. Braddock Rd.
SEQUENCE:8
STATUS:CONFIRMED
SUMMARY:8th Green Machine Regiment Band Concert
TRANSP:OPAQUE
UID:5fed5318-66cd-4f40-8ff3-41f8bfa8e979
X-ALT-DESC;FMTTYPE=text/html:To verify info please see <a href="https://ap
 ps.alexandriava.gov/Calendar/Detail.aspx?si=58988">https://apps.alexandri
 ava.gov/Calendar/Detail.aspx?si=58988</a><br />\n<br />Join us at Fort Wa
 rd for a special outdoor concert of Civil War-era music by the 8th Green 
 Machine (GM) Regiment Band at 11 a.m. on the Museum lawn. Sponsored by Ge
 orge Mason University\, this historical brass ensemble presents music of 
 the 19th century on authentic period instruments. \n<br />\n<br />Locatio
 n: Fort Ward Museum\, 4301 W. Braddock Rd.\n<br />Fees: Suggested donatio
 n: $2/$5 family\n<br />Audience: Anyone may attend\n<br />Tags: America25
 0\, Fort Ward Museum\, Fort Ward Park\, Museums
X-COA-DTSTAMP:20250606T173439Z
END:VEVENT
END:VCALENDAR
