BEGIN:VCALENDAR
CALSCALE:GREGORIAN
METHOD:PUBLISH
PRODID:-//github.com/ical-org/ical.net//NONSGML ical.net 4.0//EN
VERSION:2.0
X-WR-TIMEZONE:US/Eastern
BEGIN:VEVENT
CATEGORIES:Black History
CATEGORIES:Community Event
CATEGORIES:Equity
CATEGORIES:Museums
DESCRIPTION:To verify info please see https://apps.alexandriava.gov/Calend
 ar/Detail.aspx?si=58976\n\nA meeting of the Alexandria Community Remembra
 nce Project (ACRP) Schools and Libraries Action Committee. \n\nLocation: 
 Black History Museum\, 902 Wythe St.\nAudience: Anyone may attend\nTags: 
 Black History\, Community Event\, Equity\, Museums\n\nWeb resources:\n\nM
 eeting Agenda\nhttps://www.alexandriava.gov/sites/default/files/2025-04/a
 crpschoolslibrariesagenda20250430.pdf\n
DTEND:20250430T230000Z
DTSTAMP:20250425T205033Z
DTSTART:20250430T220000Z
GEO:38.812083;-77.048042
LOCATION:Black History Museum\, 902 Wythe St.
SEQUENCE:6
STATUS:CONFIRMED
SUMMARY:ACRP Schools and Libraries Action Committee
TRANSP:OPAQUE
UID:bb9b70bf-9f13-4a9b-863d-01f9962d9d0b
URL:https://www.alexandriava.gov/sites/default/files/2025-04/acrpschoolsli
 brariesagenda20250430.pdf
X-ALT-DESC;FMTTYPE=text/html:To verify info please see <a href="https://ap
 ps.alexandriava.gov/Calendar/Detail.aspx?si=58976">https://apps.alexandri
 ava.gov/Calendar/Detail.aspx?si=58976</a><br />\n<br />A meeting of the A
 lexandria Community Remembrance Project (ACRP) Schools and Libraries Acti
 on Committee. \n<br />\n<br />Location: Black History Museum\, 902 Wythe 
 St.\n<br />Audience: Anyone may attend\n<br />Tags: Black History\, Commu
 nity Event\, Equity\, Museums<br>\n<a href="https://www.alexandriava.gov/
 sites/default/files/2025-04/acrpschoolslibrariesagenda20250430.pdf">Meeti
 ng Agenda</a><br>\n
X-COA-DTSTAMP:20250425T205033Z
END:VEVENT
END:VCALENDAR
