BEGIN:VCALENDAR
CALSCALE:GREGORIAN
METHOD:PUBLISH
PRODID:-//github.com/ical-org/ical.net//NONSGML ical.net 4.0//EN
VERSION:2.0
X-WR-TIMEZONE:US/Eastern
BEGIN:VEVENT
CATEGORIES:Braddock Metro
CATEGORIES:Employment
DESCRIPTION:To verify info please see https://apps.alexandriava.gov/Calend
 ar/Detail.aspx?si=58967\n\nCongressman Don Beyer\, in partnership with th
 e City of Alexandria\, the City of Falls Church\, Arlington County and Fa
 irfax County\, invites all federal workers and interested jobseekers to a
 ttend a networking and hiring fair. Meet and network with 50 hiring compa
 nies and find your next career. Walking Distance from Braddock Road Metro
 \n\nLocation: George Washington Middle School\, 1005 Mount Vernon Ave.\nA
 udience: Anyone may attend\nTags: Braddock Metro\, Employment
DTEND:20250503T190000Z
DTSTAMP:20250415T141800Z
DTSTART:20250503T160000Z
GEO:38.816288;-77.056196
LOCATION:George Washington Middle School\, 1005 Mount Vernon Ave.
SEQUENCE:5
STATUS:CONFIRMED
SUMMARY:Job Fair for Federal Workers and Contractors
TRANSP:OPAQUE
UID:7232d71c-b63d-4c1d-9715-98287f3888da
X-ALT-DESC;FMTTYPE=text/html:To verify info please see <a href="https://ap
 ps.alexandriava.gov/Calendar/Detail.aspx?si=58967">https://apps.alexandri
 ava.gov/Calendar/Detail.aspx?si=58967</a><br />\n<br />Congressman Don Be
 yer\, in partnership with the City of Alexandria\, the City of Falls Chur
 ch\, Arlington County and Fairfax County\, invites all federal workers an
 d interested jobseekers to attend a networking and hiring fair. Meet and 
 network with 50 hiring companies and find your next career. Walking Dista
 nce from Braddock Road Metro\n<br />\n<br />Location: George Washington M
 iddle School\, 1005 Mount Vernon Ave.\n<br />Audience: Anyone may attend\
 n<br />Tags: Braddock Metro\, Employment
X-COA-DTSTAMP:20250415T141800Z
END:VEVENT
END:VCALENDAR
