BEGIN:VCALENDAR
CALSCALE:GREGORIAN
METHOD:PUBLISH
PRODID:-//github.com/ical-org/ical.net//NONSGML ical.net 4.0//EN
VERSION:2.0
X-WR-TIMEZONE:US/Eastern
BEGIN:VEVENT
CATEGORIES:Fort Ward Museum
CATEGORIES:Museums
DESCRIPTION:To verify info please see https://apps.alexandriava.gov/Calend
 ar/Detail.aspx?si=58964\n\nThis guided tour highlights the Defenses of Wa
 shington and one veteran's efforts to preserve its story. The tour begins
  inside with the special exhibit\, "Lewis Cass White: Preserving the Lega
 cy of Fort Stevens\," then continues outside to see the earthwork fort. P
 lease note this tour invovles walking on outdoor paths and takes place ra
 in or shine.\n\nPlease note: You do not need to print off tickets. Your n
 ame will be on the registration list for the tour.\n\nLocation: Fort Ward
  Museum\, 4301 W. Braddock Rd.\nFees: $15\, $12 Historic Alexandria membe
 rs\nAudience: Anyone may attend\nTags: Fort Ward Museum\, Museums\n\nWeb 
 resources:\n\nPurchase Tickets Online\nhttps://shop.alexandriava.gov/Even
 ts.aspx\n
DTEND:20250517T150000Z
DTSTAMP:20250415T163505Z
DTSTART:20250517T140000Z
GEO:38.829553;-77.101740
LOCATION:Fort Ward Museum\, 4301 W. Braddock Rd.
SEQUENCE:7
STATUS:CONFIRMED
SUMMARY:Specialty Tour: Fort Ward Museum and Historic Site
TRANSP:OPAQUE
UID:6ec10baf-d43f-45c1-bafe-77e375c984cf
URL:https://shop.alexandriava.gov/Events.aspx
X-ALT-DESC;FMTTYPE=text/html:To verify info please see <a href="https://ap
 ps.alexandriava.gov/Calendar/Detail.aspx?si=58964">https://apps.alexandri
 ava.gov/Calendar/Detail.aspx?si=58964</a><br />\n<br />This guided tour h
 ighlights the Defenses of Washington and one veteran?s efforts to preserv
 e its story. The tour begins inside with the special exhibit\, ?Lewis Cas
 s White: Preserving the Legacy of Fort Stevens\,? then continues outside 
 to see the earthwork fort. Please note this tour invovles walking on outd
 oor paths and takes place rain or shine.\n<br />\n<br />Please note: You 
 do not need to print off tickets. Your name will be on the registration l
 ist for the tour.\n<br />\n<br />Location: Fort Ward Museum\, 4301 W. Bra
 ddock Rd.\n<br />Fees: $15\, $12 Historic Alexandria members\n<br />Audie
 nce: Anyone may attend\n<br />Tags: Fort Ward Museum\, Museums<br>\n<a hr
 ef="https://shop.alexandriava.gov/Events.aspx">Purchase Tickets Online</a
 ><br>\n
X-COA-DTSTAMP:20250415T163505Z
END:VEVENT
END:VCALENDAR
