BEGIN:VCALENDAR
CALSCALE:GREGORIAN
METHOD:PUBLISH
PRODID:-//github.com/ical-org/ical.net//NONSGML ical.net 4.0//EN
VERSION:2.0
X-WR-TIMEZONE:US/Eastern
BEGIN:VEVENT
CATEGORIES:Apothecary Museum
CATEGORIES:Museums
DESCRIPTION:To verify info please see https://apps.alexandriava.gov/Calend
 ar/Detail.aspx?si=58955\n\nIn honor of Harry's birthday\, the Apothecary 
 Museum is offering a special guided tour for families (and adults who mis
 sed their Hogwarts' letter) that will explore the old Apothecary and the 
 historic muggle medicines that inspired the Herbology and Potions of Harr
 y's wizarding world. At the end of the tour test your skills and make you
 r own potion to try at home.\n\nEach timed-entry will be a separate guide
 d tour\, so be sure to purchase your group's tickets for only one entry t
 ime. Due to the small spaces in the museum\, the capacity for each tour i
 s 10 people. Children must be accompanied by an adult. Everyone must purc
 hase a ticket\, adults and children. Touring the museum involves ascendin
 g and descending one flight of stairs. Photography welcome. This tour sel
 ls out quickly\, so purchase in advance!\n\nLocation: Stabler-Leadbeater 
 Apothecary Museum\, 105-107 S. Fairfax St.\nFees: $15\nAudience: Anyone m
 ay attend\nTags: Apothecary Museum\, Museums\n\nWeb resources:\n\nPurchas
 e Tickets Online here!\nhttps://shop.alexandriava.gov/Events.aspx\n
DTEND:20250727T210000Z
DTSTAMP:20250415T171143Z
DTSTART:20250727T170000Z
GEO:38.804291;-77.042693
LOCATION:Stabler-Leadbeater Apothecary Museum\, 105-107 S. Fairfax St.
SEQUENCE:6
STATUS:CONFIRMED
SUMMARY:Science Behind Harry Potter
TRANSP:OPAQUE
UID:6d08b14e-263c-44a8-bca5-a8ccf0e901b0
URL:https://shop.alexandriava.gov/Events.aspx
X-ALT-DESC;FMTTYPE=text/html:To verify info please see <a href="https://ap
 ps.alexandriava.gov/Calendar/Detail.aspx?si=58955">https://apps.alexandri
 ava.gov/Calendar/Detail.aspx?si=58955</a><br />\n<br />In honor of Harry?
 s birthday\, the Apothecary Museum is offering a special guided tour for 
 families (and adults who missed their Hogwarts? letter) that will explore
  the old Apothecary and the historic muggle medicines that inspired the H
 erbology and Potions of Harry?s wizarding world. At the end of the tour t
 est your skills and make your own potion to try at home.\n<br />\n<br />E
 ach timed-entry will be a separate guided tour\, so be sure to purchase y
 our group?s tickets for only one entry time. Due to the small spaces in t
 he museum\, the capacity for each tour is 10 people. Children must be acc
 ompanied by an adult. Everyone must purchase a ticket\, adults and childr
 en. Touring the museum involves ascending and descending one flight of st
 airs. Photography welcome. This tour sells out quickly\, so purchase in a
 dvance!\n<br />\n<br />Location: Stabler-Leadbeater Apothecary Museum\, 1
 05-107 S. Fairfax St.\n<br />Fees: $15\n<br />Audience: Anyone may attend
 \n<br />Tags: Apothecary Museum\, Museums<br>\n<a href="https://shop.alex
 andriava.gov/Events.aspx">Purchase Tickets Online here!</a><br>\n
X-COA-DTSTAMP:20250415T171143Z
END:VEVENT
END:VCALENDAR
