BEGIN:VCALENDAR
CALSCALE:GREGORIAN
METHOD:PUBLISH
PRODID:-//github.com/ical-org/ical.net//NONSGML ical.net 4.0//EN
VERSION:2.0
X-WR-TIMEZONE:US/Eastern
BEGIN:VEVENT
CATEGORIES:Lyceum
CATEGORIES:Museums
DESCRIPTION:To verify info please see https://apps.alexandriava.gov/Calend
 ar/Detail.aspx?si=58940\n\nDiscover objects rarely on view from Historic 
 Alexandria's vast collections as you use them to solve the puzzle. Drop i
 n or stay the whole time for puzzle stations\, curator chats\, and cash b
 ar.\n\nLocation: Lyceum\nFees: $35\nAudience: Anyone may attend\nTags: Ly
 ceum\, Museums\n\nWeb resources:\n\nPurchase Tickets Online\nhttps://shop
 .alexandriava.gov/Events.aspx\n
DTEND:20250531T010000Z
DTSTAMP:20250416T160535Z
DTSTART:20250530T230000Z
LOCATION:Lyceum
SEQUENCE:7
STATUS:CONFIRMED
SUMMARY:Alexandria's Treasures: Escape Room Edition
TRANSP:OPAQUE
UID:dabc42db-f1be-4a76-b3a2-3449abec4712
URL:https://shop.alexandriava.gov/Events.aspx
X-ALT-DESC;FMTTYPE=text/html:To verify info please see <a href="https://ap
 ps.alexandriava.gov/Calendar/Detail.aspx?si=58940">https://apps.alexandri
 ava.gov/Calendar/Detail.aspx?si=58940</a><br />\n<br />Discover objects r
 arely on view from Historic Alexandria?s vast collections as you use them
  to solve the puzzle. Drop in or stay the whole time for puzzle stations\
 , curator chats\, and cash bar.\n<br />\n<br />Location: Lyceum\n<br />Fe
 es: $35\n<br />Audience: Anyone may attend\n<br />Tags: Lyceum\, Museums<
 br>\n<a href="https://shop.alexandriava.gov/Events.aspx">Purchase Tickets
  Online</a><br>\n
X-COA-DTSTAMP:20250416T160535Z
END:VEVENT
END:VCALENDAR
