BEGIN:VCALENDAR
CALSCALE:GREGORIAN
METHOD:PUBLISH
PRODID:-//github.com/ical-org/ical.net//NONSGML ical.net 4.0//EN
VERSION:2.0
X-WR-TIMEZONE:US/Eastern
BEGIN:VEVENT
CATEGORIES:Boards & Commissions
CATEGORIES:Museums
CATEGORIES:Sister Cities
DESCRIPTION:To verify info please see https://apps.alexandriava.gov/Calend
 ar/Detail.aspx?si=58930\n\nA meeting of the Alexandria Sister Cities Comm
 ittee (SSC) - Dundee and Helsingborg. \n\nLocation: City Hall Room 1900\,
  301 King St\nAudience: Anyone may attend\nTags: Boards & Commissions\, M
 useums\, Sister Cities\n\nWeb resources:\n\nMeeting Agenda\nhttps://media
 .alexandriava.gov/content/oha/SCCAgenda20250414.pdf\n
DTEND:20250415T003000Z
DTSTAMP:20250411T144538Z
DTSTART:20250414T230000Z
LOCATION:City Hall Room 1900\, 301 King St
SEQUENCE:5
STATUS:CONFIRMED
SUMMARY:Sister Cities Committee Dundee and Helsingborg
TRANSP:OPAQUE
UID:8af7851d-a3ef-4654-a8a6-4f8185cbb624
URL:https://media.alexandriava.gov/content/oha/SCCAgenda20250414.pdf
X-ALT-DESC;FMTTYPE=text/html:To verify info please see <a href="https://ap
 ps.alexandriava.gov/Calendar/Detail.aspx?si=58930">https://apps.alexandri
 ava.gov/Calendar/Detail.aspx?si=58930</a><br />\n<br />A meeting of the A
 lexandria Sister Cities Committee (SSC) - Dundee and Helsingborg. \n<br /
 >\n<br />Location: City Hall Room 1900\, 301 King St\n<br />Audience: Any
 one may attend\n<br />Tags: Boards &amp\; Commissions\, Museums\, Sister 
 Cities<br>\n<a href="https://media.alexandriava.gov/content/oha/SCCAgenda
 20250414.pdf">Meeting Agenda</a><br>\n
X-COA-DTSTAMP:20250411T144538Z
END:VEVENT
END:VCALENDAR
