BEGIN:VCALENDAR
CALSCALE:GREGORIAN
METHOD:PUBLISH
PRODID:-//github.com/ical-org/ical.net//NONSGML ical.net 4.0//EN
VERSION:2.0
X-WR-TIMEZONE:US/Eastern
BEGIN:VEVENT
CATEGORIES:Affordable Housing
CATEGORIES:Community Outreach
DESCRIPTION:To verify info please see https://apps.alexandriava.gov/Calend
 ar/Detail.aspx?si=58915\n\nWhat You'll Learn\n-Fair Housing protections f
 or people with disabilities and other \n protected classes\n-How to reque
 st and receive reasonable accommodations\n-Your rights regarding assistan
 ce animals\, accessible parking\, and \n more\n-Resources for addressing 
 housing discrimination\n\nWho Should Attend\n-Renters and homebuyers with
  and without disabilities\n-Property managers and landlords\n-Housing pro
 fessionals\n-Community advocates\n\nRegister in advance for this webinar:
 \nhttps://zoom.us/webinar/register/WN_tX8kozxBQhqu5YXrfOlCxQ\nMeeting ID:
  973 8352 5506\nPasscode: 653252\nCall-in number: 301.715.8592\n\n\nLocat
 ion:  Virtual Only\nContact Person: Mary Horner\nContact Email: mary.horn
 er@alexandriava.gov\nAudience: Anyone may attend\nTags: Affordable Housin
 g\, Community Outreach\n\nWeb resources:\n\nMore information\nhttps://www
 .alexandriava.gov/housing/housing-news-announcements#OfficeofHousingtoHos
 tWebinaronNavigatingHousingProtectionsforPeoplewithDisabilities\n\nOffice
  of Housing\nhttps://www.alexandriava.gov/Housing\n
DTEND:20250423T173000Z
DTSTAMP:20250407T223625Z
DTSTART:20250423T160000Z
LOCATION: Virtual Only
SEQUENCE:5
STATUS:CONFIRMED
SUMMARY:VIRTUAL: Housing Protections for People with Disabilities
TRANSP:OPAQUE
UID:a2ef35f4-e61b-48f4-8b36-b11722c4d43e
URL:https://www.alexandriava.gov/housing/housing-news-announcements#Office
 ofHousingtoHostWebinaronNavigatingHousingProtectionsforPeoplewithDisabili
 ties
X-ALT-DESC;FMTTYPE=text/html:To verify info please see <a href="https://ap
 ps.alexandriava.gov/Calendar/Detail.aspx?si=58915">https://apps.alexandri
 ava.gov/Calendar/Detail.aspx?si=58915</a><br />\n<br />What You&#39\;ll L
 earn\n<br />-Fair Housing protections for people with disabilities and ot
 her \n<br /> protected classes\n<br />-How to request and receive reasona
 ble accommodations\n<br />-Your rights regarding assistance animals\, acc
 essible parking\, and \n<br /> more\n<br />-Resources for addressing hous
 ing discrimination\n<br />\n<br />Who Should Attend\n<br />-Renters and h
 omebuyers with and without disabilities\n<br />-Property managers and lan
 dlords\n<br />-Housing professionals\n<br />-Community advocates\n<br />\
 n<br />Register in advance for this webinar:\n<br />https://zoom.us/webin
 ar/register/WN_tX8kozxBQhqu5YXrfOlCxQ\n<br />Meeting ID: 973 8352 5506\n<
 br />Passcode: 653252\n<br />Call-in number: 301.715.8592\n<br />\n<br />
 \n<br />Location:  Virtual Only\n<br />Contact Person: Mary Horner\n<br /
 >Contact Email: mary.horner@alexandriava.gov\n<br />Audience: Anyone may 
 attend\n<br />Tags: Affordable Housing\, Community Outreach<br>\n<a href=
 "https://www.alexandriava.gov/housing/housing-news-announcements#Officeof
 HousingtoHostWebinaronNavigatingHousingProtectionsforPeoplewithDisabiliti
 es">More information</a><br>\n<a href="https://www.alexandriava.gov/Housi
 ng">Office of Housing</a><br>\n
X-COA-DTSTAMP:20250407T223625Z
END:VEVENT
END:VCALENDAR
