BEGIN:VCALENDAR
CALSCALE:GREGORIAN
METHOD:PUBLISH
PRODID:-//github.com/ical-org/ical.net//NONSGML ical.net 4.0//EN
VERSION:2.0
X-WR-TIMEZONE:US/Eastern
BEGIN:VEVENT
CATEGORIES:Boards & Commissions
CATEGORIES:Museums
CATEGORIES:Sister Cities
DESCRIPTION:To verify info please see https://apps.alexandriava.gov/Calend
 ar/Detail.aspx?si=58907\n\nAn in-person meeting of the Alexandria Sister 
 Cities Committee Whisky Tasting Subcommittee.\n\nThis meeting will be hel
 d on the second floor of Misha's Coffee House\, 6 Prince Street\, Alexand
 ria\, VA 22314. \n\nLocation:  No Location Specified\nAudience: Anyone ma
 y attend\nTags: Boards & Commissions\, Museums\, Sister Cities
DTEND:20250406T210000Z
DTSTAMP:20250403T202840Z
DTSTART:20250406T190000Z
SEQUENCE:7
STATUS:CONFIRMED
SUMMARY:Sister Cities Whisky Tasting Planning Subcommittee
TRANSP:OPAQUE
UID:61d3cb84-124f-420c-b042-be187cea77b9
X-ALT-DESC;FMTTYPE=text/html:To verify info please see <a href="https://ap
 ps.alexandriava.gov/Calendar/Detail.aspx?si=58907">https://apps.alexandri
 ava.gov/Calendar/Detail.aspx?si=58907</a><br />\n<br />An in-person meeti
 ng of the Alexandria Sister Cities Committee Whisky Tasting Subcommittee.
 \n<br />\n<br />This meeting will be held on the second floor of Misha&#3
 9\;s Coffee House\, 6 Prince Street\, Alexandria\, VA 22314. \n<br />\n<b
 r />Location:  No Location Specified\n<br />Audience: Anyone may attend\n
 <br />Tags: Boards &amp\; Commissions\, Museums\, Sister Cities
X-COA-DTSTAMP:20250403T202840Z
END:VEVENT
END:VCALENDAR
