BEGIN:VCALENDAR
CALSCALE:GREGORIAN
METHOD:PUBLISH
PRODID:-//github.com/ical-org/ical.net//NONSGML ical.net 4.0//EN
VERSION:2.0
X-WR-TIMEZONE:US/Eastern
BEGIN:VEVENT
CATEGORIES:DCHS
DESCRIPTION:To verify info please see https://apps.alexandriava.gov/Calend
 ar/Detail.aspx?si=58894\n\nJoin us as we welcome the spring season in sty
 le! This family-friendly event has something for everyone\, from live mus
 ic and unique local vendors to delicious food trucks and fun activities f
 or kids.\n\nEnjoy a special Kids' Corner featuring games\, face painting\
 , and cotton candy\, along with a vibrant marketplace full of handcrafted
  goods and tasty treats. Free parking is available for all attendees.\n\n
 Come out and celebrate the season with \n\nLocation: 5067 Seminary Rd.\n\
 n*In case of rain\, Spring Fling will be moved to Saturday\, April 19.\n\
 nLocation:  No Location Specified\nContact Person: Brandon Hare\nContact 
 Phone: 703.746.5793\nContact Email: brandon.hare@alexandriava.gov\nAudien
 ce: Anyone may attend\nTags: DCHS\n\nWeb resources:\n\nhttps://www.alexan
 driava.gov/sites/default/files/2025-04/spring_fling_1.pdf\n
DTEND:20250419T190000Z
DTSTAMP:20250409T182510Z
DTSTART:20250419T140000Z
SEQUENCE:12
STATUS:CONFIRMED
SUMMARY:Spring Fling
TRANSP:OPAQUE
UID:44834887-5750-4be7-a38e-1a7489f192fa
URL:https://www.alexandriava.gov/sites/default/files/2025-04/spring_fling_
 1.pdf
X-ALT-DESC;FMTTYPE=text/html:To verify info please see <a href="https://ap
 ps.alexandriava.gov/Calendar/Detail.aspx?si=58894">https://apps.alexandri
 ava.gov/Calendar/Detail.aspx?si=58894</a><br />\n<br />Join us as we welc
 ome the spring season in style! This family-friendly event has something 
 for everyone\, from live music and unique local vendors to delicious food
  trucks and fun activities for kids.\n<br />\n<br />Enjoy a special Kids?
  Corner featuring games\, face painting\, and cotton candy\, along with a
  vibrant marketplace full of handcrafted goods and tasty treats. Free par
 king is available for all attendees.\n<br />\n<br />Come out and celebrat
 e the season with \n<br />\n<br />Location: 5067 Seminary Rd.\n<br />\n<b
 r />*In case of rain\, Spring Fling will be moved to Saturday\, April 19.
 \n<br />\n<br />Location:  No Location Specified\n<br />Contact Person: B
 randon Hare\n<br />Contact Phone: 703.746.5793\n<br />Contact Email: bran
 don.hare@alexandriava.gov\n<br />Audience: Anyone may attend\n<br />Tags:
  DCHS<br>\n<a href="https://www.alexandriava.gov/sites/default/files/2025
 -04/spring_fling_1.pdf">https://www.alexandriava.gov/sites/default/files/
 2025-04/spring_fling_1.pdf</a><br>\n
X-COA-DTSTAMP:20250409T182510Z
END:VEVENT
END:VCALENDAR
