BEGIN:VCALENDAR
CALSCALE:GREGORIAN
METHOD:PUBLISH
PRODID:-//github.com/ical-org/ical.net//NONSGML ical.net 4.0//EN
VERSION:2.0
X-WR-TIMEZONE:US/Eastern
BEGIN:VEVENT
CATEGORIES:Adult
CATEGORIES:Boards & Commissions
CATEGORIES:Commission Meeting
CATEGORIES:Human Services
CATEGORIES:King Street
CATEGORIES:Old Town
DESCRIPTION:To verify info please see https://apps.alexandriava.gov/Calend
 ar/Detail.aspx?si=58891\n\nExecutive Committee meeting \n\n\n\nLocation: 
 City Hall\, Room 2000\, 301 King St.\nContact Person: Anna McClure\nConta
 ct Phone: 703.746.3140\nAudience: Anyone may attend\nTags: Adult\, Boards
  & Commissions\, Commission Meeting\, Human Services\, King Street\, Old 
 Town
DTEND:20250414T130000Z
DTSTAMP:20250402T133320Z
DTSTART:20250414T110000Z
GEO:38.805587;-77.042801
LOCATION:City Hall\, Room 2000\, 301 King St.
SEQUENCE:5
STATUS:CONFIRMED
SUMMARY:Human Rights Commission - Executive Committee
TRANSP:TRANSPARENT
UID:3d87a8e1-0533-4a3d-a7cc-450c979ad863
X-ALT-DESC;FMTTYPE=text/html:To verify info please see <a href="https://ap
 ps.alexandriava.gov/Calendar/Detail.aspx?si=58891">https://apps.alexandri
 ava.gov/Calendar/Detail.aspx?si=58891</a><br />\n<br />Executive Committe
 e meeting \n<br />\n<br />\n<br />\n<br />Location: City Hall\, Room 2000
 \, 301 King St.\n<br />Contact Person: Anna McClure\n<br />Contact Phone:
  703.746.3140\n<br />Audience: Anyone may attend\n<br />Tags: Adult\, Boa
 rds &amp\; Commissions\, Commission Meeting\, Human Services\, King Stree
 t\, Old Town
X-COA-DTSTAMP:20250402T133320Z
END:VEVENT
END:VCALENDAR
