BEGIN:VCALENDAR
CALSCALE:GREGORIAN
METHOD:PUBLISH
PRODID:-//github.com/ical-org/ical.net//NONSGML ical.net 4.0//EN
VERSION:2.0
X-WR-TIMEZONE:US/Eastern
BEGIN:VEVENT
CATEGORIES:Arts
CATEGORIES:Concerts
CATEGORIES:Mobile Art Lab
CATEGORIES:Office of the Arts
CATEGORIES:Performing Arts
CATEGORIES:Visual Arts
DESCRIPTION:To verify info please see https://apps.alexandriava.gov/Calend
 ar/Detail.aspx?si=58885\n\nEnjoy live performances by some of the region'
 s top jazz performers\, along with inspiring words by renowned poets. Plu
 s: experience hands-on art projects\, lawn games\, food vendors\, and dri
 nks all afternoon. Admission is free. \n\nLocation: Waterfront Park\, 1 P
 rince St.\nContact Person: Daniel Guzman\nContact Phone: 703.746.5419\nCo
 ntact Email: daniel.guzman@alexandriava.gov\nAudience: Anyone may attend\
 nTags: Arts\, Concerts\, Mobile Art Lab\, Office of the Arts\, Performing
  Arts\, Visual Arts
DTEND:20250615T013000Z
DTSTAMP:20250611T190922Z
DTSTART:20250614T190000Z
GEO:38.803380;-77.039641
LOCATION:Waterfront Park\, 1 Prince St.
SEQUENCE:7
STATUS:CONFIRMED
SUMMARY:47th Annual ALX Jazz Fest
TRANSP:OPAQUE
UID:cdce02de-4f08-409f-8a6f-15f5fe748409
X-ALT-DESC;FMTTYPE=text/html:To verify info please see <a href="https://ap
 ps.alexandriava.gov/Calendar/Detail.aspx?si=58885">https://apps.alexandri
 ava.gov/Calendar/Detail.aspx?si=58885</a><br />\n<br />Enjoy live perform
 ances by some of the region?s top jazz performers\, along with inspiring 
 words by renowned poets. Plus: experience hands-on art projects\, lawn ga
 mes\, food vendors\, and drinks all afternoon. Admission is free. \n<br /
 >\n<br />Location: Waterfront Park\, 1 Prince St.\n<br />Contact Person: 
 Daniel Guzman\n<br />Contact Phone: 703.746.5419\n<br />Contact Email: da
 niel.guzman@alexandriava.gov\n<br />Audience: Anyone may attend\n<br />Ta
 gs: Arts\, Concerts\, Mobile Art Lab\, Office of the Arts\, Performing Ar
 ts\, Visual Arts
X-COA-DTSTAMP:20250611T190922Z
END:VEVENT
END:VCALENDAR
