BEGIN:VCALENDAR
CALSCALE:GREGORIAN
METHOD:PUBLISH
PRODID:-//github.com/ical-org/ical.net//NONSGML ical.net 4.0//EN
VERSION:2.0
X-WR-TIMEZONE:US/Eastern
BEGIN:VEVENT
CATEGORIES:Boards & Commissions
CATEGORIES:Museums
CATEGORIES:Sister Cities
DESCRIPTION:To verify info please see https://apps.alexandriava.gov/Calend
 ar/Detail.aspx?si=58882\n\nAn in-person meeting of the Alexandria-Caen Si
 ster City Committee. \n\nLocation: City Hall\, Sister Cities Room 1101\, 
 301 King St.\nAudience: Anyone may attend\nTags: Boards & Commissions\, M
 useums\, Sister Cities\n\nWeb resources:\n\nMeeting Agenda\nhttps://media
 .alexandriava.gov/content/oha/ACSCCAgenda20250414.pdf\n
DTEND:20250415T010000Z
DTSTAMP:20250411T143241Z
DTSTART:20250414T230000Z
GEO:38.805537;-77.042758
LOCATION:City Hall\, Sister Cities Room 1101\, 301 King St.
SEQUENCE:6
STATUS:CONFIRMED
SUMMARY:Alexandria-Caen Sister City Committee
TRANSP:OPAQUE
UID:1883e708-4824-40a7-ac50-4d971f5de7e8
URL:https://media.alexandriava.gov/content/oha/ACSCCAgenda20250414.pdf
X-ALT-DESC;FMTTYPE=text/html:To verify info please see <a href="https://ap
 ps.alexandriava.gov/Calendar/Detail.aspx?si=58882">https://apps.alexandri
 ava.gov/Calendar/Detail.aspx?si=58882</a><br />\n<br />An in-person meeti
 ng of the Alexandria-Caen Sister City Committee. \n<br />\n<br />Location
 : City Hall\, Sister Cities Room 1101\, 301 King St.\n<br />Audience: Any
 one may attend\n<br />Tags: Boards &amp\; Commissions\, Museums\, Sister 
 Cities<br>\n<a href="https://media.alexandriava.gov/content/oha/ACSCCAgen
 da20250414.pdf">Meeting Agenda</a><br>\n
X-COA-DTSTAMP:20250411T143241Z
END:VEVENT
END:VCALENDAR
