BEGIN:VCALENDAR
CALSCALE:GREGORIAN
METHOD:PUBLISH
PRODID:-//github.com/ical-org/ical.net//NONSGML ical.net 4.0//EN
VERSION:2.0
X-WR-TIMEZONE:US/Eastern
BEGIN:VEVENT
CATEGORIES:Affordable Housing
CATEGORIES:Boards & Commissions
DESCRIPTION:To verify info please see https://apps.alexandriava.gov/Calend
 ar/Detail.aspx?si=58875\n\nThe Landlord-Tenant Relations Board conciliate
 s landlord-tenant complaints\, and recommends and reports to City Council
  on legislation and policy in landlord-tenant relations.\n\nLocation: Cit
 y Hall\, Room 2000\, 301 King St.\nContact Person: Mary Horner\nContact P
 hone: 703.746.3078\nContact Email: Mary.Horner@alexandriava.gov\nAudience
 : Anyone may attend\nTags: Affordable Housing\, Boards & Commissions\n\nW
 eb resources:\n\nHousing Boards and Committees\nhttps://www.alexandriava.
 gov/housing/housing-boards-and-committees\n
DTEND:20250403T010000Z
DTSTAMP:20250328T134522Z
DTSTART:20250402T230000Z
GEO:38.805587;-77.042801
LOCATION:City Hall\, Room 2000\, 301 King St.
SEQUENCE:5
STATUS:CONFIRMED
SUMMARY:Landlord-Tenant Relations Board
TRANSP:TRANSPARENT
UID:ee5278c6-4a72-4d94-af56-55351f52be95
URL:https://www.alexandriava.gov/housing/housing-boards-and-committees
X-ALT-DESC;FMTTYPE=text/html:To verify info please see <a href="https://ap
 ps.alexandriava.gov/Calendar/Detail.aspx?si=58875">https://apps.alexandri
 ava.gov/Calendar/Detail.aspx?si=58875</a><br />\n<br />The Landlord-Tenan
 t Relations Board conciliates landlord-tenant complaints\, and recommends
  and reports to City Council on legislation and policy in landlord-tenant
  relations.\n<br />\n<br />Location: City Hall\, Room 2000\, 301 King St.
 \n<br />Contact Person: Mary Horner\n<br />Contact Phone: 703.746.3078\n<
 br />Contact Email: Mary.Horner@alexandriava.gov\n<br />Audience: Anyone 
 may attend\n<br />Tags: Affordable Housing\, Boards &amp\; Commissions<br
 >\n<a href="https://www.alexandriava.gov/housing/housing-boards-and-commi
 ttees">Housing Boards and Committees</a><br>\n
X-COA-DTSTAMP:20250328T134522Z
END:VEVENT
END:VCALENDAR
