BEGIN:VCALENDAR
CALSCALE:GREGORIAN
METHOD:PUBLISH
PRODID:-//github.com/ical-org/ical.net//NONSGML ical.net 4.0//EN
VERSION:2.0
X-WR-TIMEZONE:US/Eastern
BEGIN:VEVENT
CATEGORIES:Community Event
CATEGORIES:T&ES Events
DESCRIPTION:To verify info please see https://apps.alexandriava.gov/Calend
 ar/Detail.aspx?si=58873\n\nAlexRenew and the City of Alexandria will cele
 brate their newly renovated shared office space with a ribbon-cutting cer
 emony\, marking an important milestone for AlexRenew and the City's Depar
 tment of Transportation and Environmental Services.\nThe event will take 
 place on the fifth floor. Appetizers and light refreshments will be avail
 able.\n\n\nLocation: AlexRenew Education Center & Meeting Space \, 1800 L
 imerick Street\nContact Person: Ursula Ramos\nContact Email: ursula.ramos
 @alexandriava.gov\nAudience: Anyone may attend\nTags: Community Event\, T
 &ES Events
DTEND:20250331T220000Z
DTSTAMP:20250326T193034Z
DTSTART:20250331T210000Z
LOCATION:AlexRenew Education Center & Meeting Space \, 1800 Limerick Street
SEQUENCE:6
STATUS:CONFIRMED
SUMMARY:AlexRenew Fifth Floor Ribbon Cutting Ceremony
TRANSP:OPAQUE
UID:b9484f0c-b7ca-45f3-afa3-56e8f7a97073
X-ALT-DESC;FMTTYPE=text/html:To verify info please see <a href="https://ap
 ps.alexandriava.gov/Calendar/Detail.aspx?si=58873">https://apps.alexandri
 ava.gov/Calendar/Detail.aspx?si=58873</a><br />\n<br />AlexRenew and the 
 City of Alexandria will celebrate their newly renovated shared office spa
 ce with a ribbon-cutting ceremony\, marking an important milestone for Al
 exRenew and the City&#39\;s Department of Transportation and Environmenta
 l Services.\n<br />The event will take place on the fifth floor. Appetize
 rs and light refreshments will be available.\n<br />\n<br />\n<br />Locat
 ion: AlexRenew Education Center &amp\; Meeting Space \, 1800 Limerick Str
 eet\n<br />Contact Person: Ursula Ramos\n<br />Contact Email: ursula.ramo
 s@alexandriava.gov\n<br />Audience: Anyone may attend\n<br />Tags: Commun
 ity Event\, T&amp\;ES Events
X-COA-DTSTAMP:20250326T193034Z
END:VEVENT
END:VCALENDAR
