BEGIN:VCALENDAR
CALSCALE:GREGORIAN
METHOD:PUBLISH
PRODID:-//github.com/ical-org/ical.net//NONSGML ical.net 4.0//EN
VERSION:2.0
X-WR-TIMEZONE:US/Eastern
BEGIN:VEVENT
CATEGORIES:Black History
CATEGORIES:Family
CATEGORIES:Museums
CATEGORIES:Nature
CATEGORIES:Old & Historic Alexandria
CATEGORIES:Old Town
CATEGORIES:Recreation
DESCRIPTION:To verify info please see https://apps.alexandriava.gov/Calend
 ar/Detail.aspx?si=58872\n\nCelebrate RiverRenew's restoration of Hooffs R
 un with the dedication of new historical signage in African American Heri
 tage Park and family-friendly activities focused on native plantings. \n\
 nLocation: African American Heritage Park\nAudience: Anyone may attend\nT
 ags: Black History\, Family\, Museums\, Nature\, Old & Historic Alexandri
 a\, Old Town\, Recreation
DTEND:20250607T160000Z
DTSTAMP:20250325T142052Z
DTSTART:20250607T140000Z
GEO:38.802597;-77.059601
LOCATION:African American Heritage Park
SEQUENCE:5
STATUS:CONFIRMED
SUMMARY:RiverRenew Hooffs Run Dedication Day
TRANSP:OPAQUE
UID:7d5039d5-a4ae-407e-aa0c-619ad59c6ae5
X-ALT-DESC;FMTTYPE=text/html:To verify info please see <a href="https://ap
 ps.alexandriava.gov/Calendar/Detail.aspx?si=58872">https://apps.alexandri
 ava.gov/Calendar/Detail.aspx?si=58872</a><br />\n<br />Celebrate RiverRen
 ew&#39\;s restoration of Hooffs Run with the dedication of new historical
  signage in African American Heritage Park and family-friendly activities
  focused on native plantings. \n<br />\n<br />Location: African American 
 Heritage Park\n<br />Audience: Anyone may attend\n<br />Tags: Black Histo
 ry\, Family\, Museums\, Nature\, Old &amp\; Historic Alexandria\, Old Tow
 n\, Recreation
X-COA-DTSTAMP:20250325T142052Z
END:VEVENT
END:VCALENDAR
