BEGIN:VCALENDAR
CALSCALE:GREGORIAN
METHOD:PUBLISH
PRODID:-//github.com/ical-org/ical.net//NONSGML ical.net 4.0//EN
VERSION:2.0
X-WR-TIMEZONE:US/Eastern
BEGIN:VEVENT
CATEGORIES:Employment
CATEGORIES:Workforce Development
DESCRIPTION:To verify info please see https://apps.alexandriava.gov/Calend
 ar/Detail.aspx?si=58858\n\nJoin the City of Alexandria Workforce Developm
 ent Center and Lutheran Social Services for a hiring event focused on job
 s with immediate openings. Meet employers from various industries\, explo
 re job opportunities\, and take the next step in your career. No pre-scre
 enings will be conducted on-site-just bring your resume and be ready to c
 onnect!\n\nLocation: Del Pepper Community Resource Center\, 4850 Mark Cen
 ter Drive\nContact Email: wdc@alexandriava.gov\nAudience: Anyone may atte
 nd\nTags: Employment\, Workforce Development\n\nWeb resources:\n\nRegiste
 r Now\nhttps://www.eventbrite.com/e/back-to-work-hiring-event-tickets-129
 2709030509?aff=oddtdtcreator\n
DTEND:20250418T200000Z
DTSTAMP:20250324T163423Z
DTSTART:20250418T170000Z
LOCATION:Del Pepper Community Resource Center\, 4850 Mark Center Drive
SEQUENCE:5
STATUS:CONFIRMED
SUMMARY:Back To Work Hiring Event
TRANSP:OPAQUE
UID:672cb134-edf0-4e57-a875-74fc6d22798a
URL:https://www.eventbrite.com/e/back-to-work-hiring-event-tickets-1292709
 030509?aff=oddtdtcreator
X-ALT-DESC;FMTTYPE=text/html:To verify info please see <a href="https://ap
 ps.alexandriava.gov/Calendar/Detail.aspx?si=58858">https://apps.alexandri
 ava.gov/Calendar/Detail.aspx?si=58858</a><br />\n<br />Join the City of A
 lexandria Workforce Development Center and Lutheran Social Services for a
  hiring event focused on jobs with immediate openings. Meet employers fro
 m various industries\, explore job opportunities\, and take the next step
  in your career. No pre-screenings will be conducted on-site?just bring y
 our resume and be ready to connect!\n<br />\n<br />Location: Del Pepper C
 ommunity Resource Center\, 4850 Mark Center Drive\n<br />Contact Email: w
 dc@alexandriava.gov\n<br />Audience: Anyone may attend\n<br />Tags: Emplo
 yment\, Workforce Development<br>\n<a href="https://www.eventbrite.com/e/
 back-to-work-hiring-event-tickets-1292709030509?aff=oddtdtcreator">Regist
 er Now</a><br>\n
X-COA-DTSTAMP:20250324T163423Z
END:VEVENT
END:VCALENDAR
