BEGIN:VCALENDAR
CALSCALE:GREGORIAN
METHOD:PUBLISH
PRODID:-//github.com/ical-org/ical.net//NONSGML ical.net 4.0//EN
VERSION:2.0
X-WR-TIMEZONE:US/Eastern
BEGIN:VEVENT
CATEGORIES:AEDP
CATEGORIES:Business Events
DESCRIPTION:To verify info please see https://apps.alexandriava.gov/Calend
 ar/Detail.aspx?si=58856\n\nAs we figure out how to navigate these changes
  in real time\, City representatives and AEDP invite you to a listening s
 ession on how federal policy shifts are impacting local businesses. This 
 in-person conversation is an opportunity for business owners and governme
 nt contractors to share their experiences and help shape how Alexandria s
 upports its business community.\n\nLocation: AEDP Offices\, 601 Prince St
 reet\nAudience: Anyone may attend\nTags: AEDP\, Business Events\n\nWeb re
 sources:\n\nRegister Now\nhttps://share.hsforms.com/21UCuPyjgQRuPqmjEi1rr
 Qgnt0vi\n
DTEND:20250402T140000Z
DTSTAMP:20250324T161420Z
DTSTART:20250402T120000Z
GEO:38.810988;-77.045381
LOCATION:AEDP Offices\, 601 Prince Street
SEQUENCE:5
STATUS:CONFIRMED
SUMMARY:Your Business in a Shifting Federal Market
TRANSP:OPAQUE
UID:66fea838-00f9-46e0-957a-b786e78ced75
URL:https://share.hsforms.com/21UCuPyjgQRuPqmjEi1rrQgnt0vi
X-ALT-DESC;FMTTYPE=text/html:To verify info please see <a href="https://ap
 ps.alexandriava.gov/Calendar/Detail.aspx?si=58856">https://apps.alexandri
 ava.gov/Calendar/Detail.aspx?si=58856</a><br />\n<br />As we figure out h
 ow to navigate these changes in real time\, City representatives and AEDP
  invite you to a listening session on how federal policy shifts are impac
 ting local businesses. This in-person conversation is an opportunity for 
 business owners and government contractors to share their experiences and
  help shape how Alexandria supports its business community.\n<br />\n<br 
 />Location: AEDP Offices\, 601 Prince Street\n<br />Audience: Anyone may 
 attend\n<br />Tags: AEDP\, Business Events<br>\n<a href="https://share.hs
 forms.com/21UCuPyjgQRuPqmjEi1rrQgnt0vi">Register Now</a><br>\n
X-COA-DTSTAMP:20250324T161420Z
END:VEVENT
END:VCALENDAR
