BEGIN:VCALENDAR
CALSCALE:GREGORIAN
METHOD:PUBLISH
PRODID:-//github.com/ical-org/ical.net//NONSGML ical.net 4.0//EN
VERSION:2.0
X-WR-TIMEZONE:US/Eastern
BEGIN:VEVENT
CATEGORIES:APD Recruitment
CATEGORIES:APDCalendar
CATEGORIES:Employment
CATEGORIES:Police Department
CATEGORIES:Women
CATEGORIES:Women History
DESCRIPTION:To verify info please see https://apps.alexandriava.gov/Calend
 ar/Detail.aspx?si=58852\n\nExplore full and part-time opportunities for b
 oth sworn officers and professional staff members. \n\n- Discover the div
 erse units of APD and learn about potential upward mobility within the de
 partment. \n\n- Gain insights into the Police Academy experience and what
  it takes to succeed. \n\n- Ask questions and hear directly from APD offi
 cers who will be available to provide answers and guidance. \n\nEvent Sch
 edule \n\nFirst there will be a department tour from 2 to 4 p.m. followed
  by a panel discussion with Tina Laguna\, the assistant chief of police f
 or APD from 4 to 5 p.m.  \n\nLocation: Police Headquarters\nAudience: Any
 one may attend\nTags: APD Recruitment\, APDCalendar\, Employment\, Police
  Department\, Women\, Women History\n\nWeb resources:\n\nRegister Now\nht
 tps://www.eventbrite.com/e/apd-womens-day-hiring-event-open-house-tickets
 -1284475584049?aff=oddtdtcreator\n
DTEND:20250330T210000Z
DTSTAMP:20250320T194106Z
DTSTART:20250330T180000Z
GEO:38.806875;-77.092330
LOCATION:Police Headquarters
SEQUENCE:5
STATUS:CONFIRMED
SUMMARY:Women in Law Enforcement Hiring event
TRANSP:OPAQUE
UID:0b9347ea-aba5-4f83-8c8a-e1c97778a056
URL:https://www.eventbrite.com/e/apd-womens-day-hiring-event-open-house-ti
 ckets-1284475584049?aff=oddtdtcreator
X-ALT-DESC;FMTTYPE=text/html:To verify info please see <a href="https://ap
 ps.alexandriava.gov/Calendar/Detail.aspx?si=58852">https://apps.alexandri
 ava.gov/Calendar/Detail.aspx?si=58852</a><br />\n<br />Explore full and p
 art-time opportunities for both sworn officers and professional staff mem
 bers. \n<br />\n<br />- Discover the diverse units of APD and learn about
  potential upward mobility within the department. \n<br />\n<br />- Gain 
 insights into the Police Academy experience and what it takes to succeed.
  \n<br />\n<br />- Ask questions and hear directly from APD officers who 
 will be available to provide answers and guidance. \n<br />\n<br />Event 
 Schedule \n<br />\n<br />First there will be a department tour from 2 to 
 4 p.m. followed by a panel discussion with Tina Laguna\, the assistant ch
 ief of police for APD from 4 to 5 p.m.  \n<br />\n<br />Location: Police 
 Headquarters\n<br />Audience: Anyone may attend\n<br />Tags: APD Recruitm
 ent\, APDCalendar\, Employment\, Police Department\, Women\, Women Histor
 y<br>\n<a href="https://www.eventbrite.com/e/apd-womens-day-hiring-event-
 open-house-tickets-1284475584049?aff=oddtdtcreator">Register Now</a><br>\
 n
X-COA-DTSTAMP:20250320T194106Z
END:VEVENT
END:VCALENDAR
