BEGIN:VCALENDAR
CALSCALE:GREGORIAN
METHOD:PUBLISH
PRODID:-//github.com/ical-org/ical.net//NONSGML ical.net 4.0//EN
VERSION:2.0
X-WR-TIMEZONE:US/Eastern
BEGIN:VEVENT
CATEGORIES:Aging
CATEGORIES:Caregiver
CATEGORIES:Community Meeting
CATEGORIES:DCHS
CATEGORIES:Recreation Centers
CATEGORIES:Seniors
DESCRIPTION:To verify info please see https://apps.alexandriava.gov/Calend
 ar/Detail.aspx?si=58847\n\nAlexandria Adult Day Services Center hosts Haw
 aiian Star Dancers for the public on 4/17\, RSVP due today\n\nLocation:  
 No Location Specified\nContact Person: Jackie McCord \nContact Phone: 703
 .746.5676\nContact Email: Jackie.McCord@alexandriava.gov\nAudience: Anyon
 e may attend\nTags: Aging\, Caregiver\, Community Meeting\, DCHS\, Recrea
 tion Centers\, Seniors
DTEND:20250411T203000Z
DTSTAMP:20250404T204055Z
DTSTART:20250411T200000Z
SEQUENCE:6
STATUS:CONFIRMED
SUMMARY:Hawaiian Star Dancers RSVP Due
TRANSP:TRANSPARENT
UID:499e1b95-0e49-484f-8e6c-635c2e91137f
X-ALT-DESC;FMTTYPE=text/html:To verify info please see <a href="https://ap
 ps.alexandriava.gov/Calendar/Detail.aspx?si=58847">https://apps.alexandri
 ava.gov/Calendar/Detail.aspx?si=58847</a><br />\n<br />Alexandria Adult D
 ay Services Center hosts Hawaiian Star Dancers for the public on 4/17\, R
 SVP due today\n<br />\n<br />Location:  No Location Specified\n<br />Cont
 act Person: Jackie McCord \n<br />Contact Phone: 703.746.5676\n<br />Cont
 act Email: Jackie.McCord@alexandriava.gov\n<br />Audience: Anyone may att
 end\n<br />Tags: Aging\, Caregiver\, Community Meeting\, DCHS\, Recreatio
 n Centers\, Seniors
X-COA-DTSTAMP:20250404T204055Z
END:VEVENT
END:VCALENDAR
