BEGIN:VCALENDAR
CALSCALE:GREGORIAN
METHOD:PUBLISH
PRODID:-//github.com/ical-org/ical.net//NONSGML ical.net 4.0//EN
VERSION:2.0
X-WR-TIMEZONE:US/Eastern
BEGIN:VEVENT
CATEGORIES:Aging
CATEGORIES:Caregiver
CATEGORIES:Community Meeting
CATEGORIES:DCHS
CATEGORIES:Recreation Centers
CATEGORIES:Seniors
DESCRIPTION:To verify info please see https://apps.alexandriava.gov/Calend
 ar/Detail.aspx?si=58846\n\nAlexandria Adult Day Services Center hosts Haw
 aiian Star Dancers for the public\n\nLocation: Lee Center\, 1108 Jefferso
 n St.\nContact Person: Jackie McCord \nContact Phone: 703.746.5676\nConta
 ct Email: Jackie.McCord@alexandriava.gov\nAudience: Anyone may attend\nTa
 gs: Aging\, Caregiver\, Community Meeting\, DCHS\, Recreation Centers\, S
 eniors
DTEND:20250417T183000Z
DTSTAMP:20250320T150127Z
DTSTART:20250417T173000Z
GEO:38.797510;-77.053621
LOCATION:Lee Center\, 1108 Jefferson St.
SEQUENCE:5
STATUS:CONFIRMED
SUMMARY:Hawaiian Star  Dancers
TRANSP:TRANSPARENT
UID:45863127-6609-4568-be79-063584f01574
X-ALT-DESC;FMTTYPE=text/html:To verify info please see <a href="https://ap
 ps.alexandriava.gov/Calendar/Detail.aspx?si=58846">https://apps.alexandri
 ava.gov/Calendar/Detail.aspx?si=58846</a><br />\n<br />Alexandria Adult D
 ay Services Center hosts Hawaiian Star Dancers for the public\n<br />\n<b
 r />Location: Lee Center\, 1108 Jefferson St.\n<br />Contact Person: Jack
 ie McCord \n<br />Contact Phone: 703.746.5676\n<br />Contact Email: Jacki
 e.McCord@alexandriava.gov\n<br />Audience: Anyone may attend\n<br />Tags:
  Aging\, Caregiver\, Community Meeting\, DCHS\, Recreation Centers\, Seni
 ors
X-COA-DTSTAMP:20250320T150127Z
END:VEVENT
END:VCALENDAR
