BEGIN:VCALENDAR
CALSCALE:GREGORIAN
METHOD:PUBLISH
PRODID:-//github.com/ical-org/ical.net//NONSGML ical.net 4.0//EN
VERSION:2.0
X-WR-TIMEZONE:US/Eastern
BEGIN:VEVENT
CATEGORIES:Health
CATEGORIES:Healthier Alexandria
CATEGORIES:Landmark/Van Dorn
DESCRIPTION:To verify info please see https://apps.alexandriava.gov/Calend
 ar/Detail.aspx?si=58838\n\nYour community\, your voice. Join us on a shor
 t walk around the Landmark/Van Dorn area on Saturday\, April 26th at 2pm 
 starting at the ALIVE Food Hub (510-F S Van Dorn St\, Alexandria\, VA 223
 04) to talk about our neighborhood and how it shapes our health. City sta
 ff will be there to hear your feedback on how we can make a difference in
  our community today and in the future.\n\nLocation:  No Location Specifi
 ed\nContact Person: Sean Curry\nContact Phone: 703.244.5654\nContact Emai
 l: healthmatters@vdh.virginia.gov\nAudience: Anyone may attend\nTags: Hea
 lth\, Healthier Alexandria\, Landmark/Van Dorn
DTEND:20250503T200000Z
DTSTAMP:20250424T180911Z
DTSTART:20250503T180000Z
SEQUENCE:6
STATUS:CONFIRMED
SUMMARY:Landmark/Van Dorn Community Health Walk and Talk
TRANSP:OPAQUE
UID:612bccc4-14c8-49e9-a28a-0d7f93afc69f
X-ALT-DESC;FMTTYPE=text/html:To verify info please see <a href="https://ap
 ps.alexandriava.gov/Calendar/Detail.aspx?si=58838">https://apps.alexandri
 ava.gov/Calendar/Detail.aspx?si=58838</a><br />\n<br />Your community\, y
 our voice. Join us on a short walk around the Landmark/Van Dorn area on S
 aturday\, April 26th at 2pm starting at the ALIVE Food Hub (510-F S Van D
 orn St\, Alexandria\, VA 22304) to talk about our neighborhood and how it
  shapes our health. City staff will be there to hear your feedback on how
  we can make a difference in our community today and in the future.\n<br 
 />\n<br />Location:  No Location Specified\n<br />Contact Person: Sean Cu
 rry\n<br />Contact Phone: 703.244.5654\n<br />Contact Email: healthmatter
 s@vdh.virginia.gov\n<br />Audience: Anyone may attend\n<br />Tags: Health
 \, Healthier Alexandria\, Landmark/Van Dorn
X-COA-DTSTAMP:20250424T180911Z
END:VEVENT
END:VCALENDAR
