BEGIN:VCALENDAR
CALSCALE:GREGORIAN
METHOD:PUBLISH
PRODID:-//github.com/ical-org/ical.net//NONSGML ical.net 4.0//EN
VERSION:2.0
X-WR-TIMEZONE:US/Eastern
BEGIN:VEVENT
CATEGORIES:Aquatics
CATEGORIES:Community Outreach
CATEGORIES:Family
CATEGORIES:Nature
CATEGORIES:Recreation
CATEGORIES:Recreation Centers
CATEGORIES:Teens
CATEGORIES:Toddlers
CATEGORIES:Youth
DESCRIPTION:To verify info please see https://apps.alexandriava.gov/Calend
 ar/Detail.aspx?si=58830\n\nMake it a night to remember at our Friday Fami
 ly Fun Night! Bring the whole family for an hour of swimming\, followed b
 y a cozy movie screening and delicious snacks. Whether you're splashing i
 n the pool or enjoying quality time together\, this event is the perfect 
 way to kick off your weekend. Join us this Friday and create lasting memo
 ries with your loved ones!\n\nLocation: Chinquapin Park Recreation Center
 \, 3210 King St.\nContact Person: Trina Wood\nContact Phone: 703.746.5435
 \nContact Email: trina.wood@alexandriava.gov\nFees: $7/Individual or $20/
 Family of 4\nAudience: Anyone may attend\nTags: Aquatics\, Community Outr
 each\, Family\, Nature\, Recreation\, Recreation Centers\, Teens\, Toddle
 rs\, Youth\n\nWeb resources:\n\nSign Up Now!\nhttps://vaalexandriaweb.myv
 scloud.com/webtrac/web/search.html?Action=Start&SubAction=&_csrf_token=kU
 6N1D6W6T73222T322X2M4G055V555U0D5P4K5H4F02554G534G0A6W4S594R6Q044L585A6H7
 15H524Y6Q6Z4L5K506Y4Z4X5850094Z5W4S4U006I5Z6J6L725G3Y5I&primarycode=48420
 3&keyword=first+friday&category=&subtype=&location=CQRC&display=Detail&mo
 dule=AR&multiselectlist_value=&arwebsearch_buttonsearch=yes\nReserve your
  spot now.\n\nRPCA's Aquatics\nhttps://www.alexandriava.gov/Aquatics\nLea
 rn more about our Aquatic offerings!\n\nRPCA Website\nhttps://www.alexand
 riava.gov/Recreation\nFind out more about the Department of Recreation\, 
 Parks & Cultural Activities (RPCA).\n\nRPCA Social Media\nhttps://www.ale
 xandriava.gov/RPCA/Social\nFollow us on Instagram\, Facebook\, & Twitter!
 \n
DTEND:20250419T003000Z
DTSTAMP:20250318T142517Z
DTSTART:20250418T210000Z
GEO:38.823928;-77.083350
LOCATION:Chinquapin Park Recreation Center\, 3210 King St.
SEQUENCE:10
STATUS:CONFIRMED
SUMMARY:Friday Family Fun Night at the Pool
TRANSP:TRANSPARENT
UID:6efad7a5-c356-4d74-b2bd-338b840cdeae
URL:https://vaalexandriaweb.myvscloud.com/webtrac/web/search.html?Action=S
 tart&SubAction=&_csrf_token=kU6N1D6W6T73222T322X2M4G055V555U0D5P4K5H4F025
 54G534G0A6W4S594R6Q044L585A6H715H524Y6Q6Z4L5K506Y4Z4X5850094Z5W4S4U006I5Z
 6J6L725G3Y5I&primarycode=484203&keyword=first+friday&category=&subtype=&l
 ocation=CQRC&display=Detail&module=AR&multiselectlist_value=&arwebsearch_
 buttonsearch=yes
X-ALT-DESC;FMTTYPE=text/html:To verify info please see <a href="https://ap
 ps.alexandriava.gov/Calendar/Detail.aspx?si=58830">https://apps.alexandri
 ava.gov/Calendar/Detail.aspx?si=58830</a><br />\n<br />Make it a night to
  remember at our Friday Family Fun Night! Bring the whole family for an h
 our of swimming\, followed by a cozy movie screening and delicious snacks
 . Whether you&#39\;re splashing in the pool or enjoying quality time toge
 ther\, this event is the perfect way to kick off your weekend. Join us th
 is Friday and create lasting memories with your loved ones!\n<br />\n<br 
 />Location: Chinquapin Park Recreation Center\, 3210 King St.\n<br />Cont
 act Person: Trina Wood\n<br />Contact Phone: 703.746.5435\n<br />Contact 
 Email: trina.wood@alexandriava.gov\n<br />Fees: $7/Individual or $20/Fami
 ly of 4\n<br />Audience: Anyone may attend\n<br />Tags: Aquatics\, Commun
 ity Outreach\, Family\, Nature\, Recreation\, Recreation Centers\, Teens\
 , Toddlers\, Youth<br>\n<a href="https://vaalexandriaweb.myvscloud.com/we
 btrac/web/search.html?Action=Start&amp\;SubAction=&amp\;_csrf_token=kU6N1
 D6W6T73222T322X2M4G055V555U0D5P4K5H4F02554G534G0A6W4S594R6Q044L585A6H715H
 524Y6Q6Z4L5K506Y4Z4X5850094Z5W4S4U006I5Z6J6L725G3Y5I&amp\;primarycode=484
 203&amp\;keyword=first+friday&amp\;category=&amp\;subtype=&amp\;location=
 CQRC&amp\;display=Detail&amp\;module=AR&amp\;multiselectlist_value=&amp\;
 arwebsearch_buttonsearch=yes">Sign Up Now!</a><br>\nReserve your spot now
 .<br>\n<a href="https://www.alexandriava.gov/Aquatics">RPCA&#39\;s Aquati
 cs</a><br>\nLearn more about our Aquatic offerings!<br>\n<a href="https:/
 /www.alexandriava.gov/Recreation">RPCA Website</a><br>\nFind out more abo
 ut the Department of Recreation\, Parks &amp\; Cultural Activities (RPCA)
 .<br>\n<a href="https://www.alexandriava.gov/RPCA/Social">RPCA Social Med
 ia</a><br>\nFollow us on Instagram\, Facebook\, &amp\; Twitter!<br>\n
X-COA-DTSTAMP:20250318T142517Z
END:VEVENT
END:VCALENDAR
