BEGIN:VCALENDAR
CALSCALE:GREGORIAN
METHOD:PUBLISH
PRODID:-//github.com/ical-org/ical.net//NONSGML ical.net 4.0//EN
VERSION:2.0
X-WR-TIMEZONE:US/Eastern
BEGIN:VEVENT
CATEGORIES:ADA
DESCRIPTION:To verify info please see https://apps.alexandriava.gov/Calend
 ar/Detail.aspx?si=58827\n\nACPD Disability Pride Month Planning Committee
 \n\nLocation:  Virtual Only\nAudience: Anyone may attend\nTags: ADA
DTEND:20250321T180000Z
DTSTAMP:20250313T163844Z
DTSTART:20250321T170000Z
LOCATION: Virtual Only
SEQUENCE:8
STATUS:CONFIRMED
SUMMARY:VIRTUAL: ACPD Disability Pride Month Planning Committee
TRANSP:TRANSPARENT
UID:a0cc7837-46cd-48d1-aea3-88e424a029d6
X-ALT-DESC;FMTTYPE=text/html:To verify info please see <a href="https://ap
 ps.alexandriava.gov/Calendar/Detail.aspx?si=58827">https://apps.alexandri
 ava.gov/Calendar/Detail.aspx?si=58827</a><br />\n<br />ACPD Disability Pr
 ide Month Planning Committee\n<br />\n<br />Location:  Virtual Only\n<br 
 />Audience: Anyone may attend\n<br />Tags: ADA
X-COA-DTSTAMP:20250313T163844Z
END:VEVENT
END:VCALENDAR
