BEGIN:VCALENDAR
CALSCALE:GREGORIAN
METHOD:PUBLISH
PRODID:-//github.com/ical-org/ical.net//NONSGML ical.net 4.0//EN
VERSION:2.0
X-WR-TIMEZONE:US/Eastern
BEGIN:VEVENT
CATEGORIES:Boards & Commissions
CATEGORIES:Commission Meeting
CATEGORIES:Elections
DESCRIPTION:To verify info please see https://apps.alexandriava.gov/Calend
 ar/Detail.aspx?si=58825\n\nThe completion of the Canvass for the June Pri
 mary Election \n\nLocation: Voter Registration Office\, 132 N. Royal St.\
 nContact Person: Angie Maniglia Turner\nContact Phone: 703.746.4050\nCont
 act Email: angela.turner@alexandriava.gov\nAudience: Anyone may attend\nT
 ags: Boards & Commissions\, Commission Meeting\, Elections
DTEND:20250623T153000Z
DTSTAMP:20250312T191648Z
DTSTART:20250623T133000Z
GEO:38.805397;-77.043632
LOCATION:Voter Registration Office\, 132 N. Royal St.
SEQUENCE:5
STATUS:CONFIRMED
SUMMARY:Alexandria Electoral Board
TRANSP:OPAQUE
UID:72a093fe-68bc-47c6-8dab-4c49aa2685c4
X-ALT-DESC;FMTTYPE=text/html:To verify info please see <a href="https://ap
 ps.alexandriava.gov/Calendar/Detail.aspx?si=58825">https://apps.alexandri
 ava.gov/Calendar/Detail.aspx?si=58825</a><br />\n<br />The completion of 
 the Canvass for the June Primary Election \n<br />\n<br />Location: Voter
  Registration Office\, 132 N. Royal St.\n<br />Contact Person: Angie Mani
 glia Turner\n<br />Contact Phone: 703.746.4050\n<br />Contact Email: ange
 la.turner@alexandriava.gov\n<br />Audience: Anyone may attend\n<br />Tags
 : Boards &amp\; Commissions\, Commission Meeting\, Elections
X-COA-DTSTAMP:20250312T191648Z
END:VEVENT
END:VCALENDAR
