BEGIN:VCALENDAR
CALSCALE:GREGORIAN
METHOD:PUBLISH
PRODID:-//github.com/ical-org/ical.net//NONSGML ical.net 4.0//EN
VERSION:2.0
X-WR-TIMEZONE:US/Eastern
BEGIN:VEVENT
CATEGORIES:Lyceum
CATEGORIES:Museums
DESCRIPTION:To verify info please see https://apps.alexandriava.gov/Calend
 ar/Detail.aspx?si=58804\n\nFind out more about the amazing treasure trove
  of 250-year-old bottles and perfectly preserved cherries and berries tha
 t Mount Vernon archaeologists unearthed from under the Mansion in 2024! T
 he Mount Vernon archeology team will talk about how this extraordinary di
 scovery provides a powerful glimpse into 18th century culture. Light refr
 eshments will be served. $30 per person\; one drink ticket included. Proc
 eeds to benefit the City of Alexandria's 2025 George Washington Birthday 
 Celebration. \n6:30 reception\, 7-8 p.m. lecture. \n\n\nLocation: Lyceum\
 nFees: $30/per person\nAudience: Anyone may attend\nTags: Lyceum\, Museum
 s\n\nWeb resources:\n\nPurchase event ticket\nhttps://crm.bloomerang.co/H
 ostedDonation?ApiKey=pub_85748919-f16e-11ec-be05-02d341daa68d&WidgetId=15
 755264\n
DTEND:20250409T000001Z
DTSTAMP:20250318T185537Z
DTSTART:20250408T230000Z
LOCATION:Lyceum
SEQUENCE:6
STATUS:CONFIRMED
SUMMARY:Lecture: Unearthing History: Mount Vernon's Cherry
TRANSP:OPAQUE
UID:60567d36-eb41-4dbf-86c3-1b2f02665199
URL:https://crm.bloomerang.co/HostedDonation?ApiKey=pub_85748919-f16e-11ec
 -be05-02d341daa68d&WidgetId=15755264
X-ALT-DESC;FMTTYPE=text/html:To verify info please see <a href="https://ap
 ps.alexandriava.gov/Calendar/Detail.aspx?si=58804">https://apps.alexandri
 ava.gov/Calendar/Detail.aspx?si=58804</a><br />\n<br />Find out more abou
 t the amazing treasure trove of 250-year-old bottles and perfectly preser
 ved cherries and berries that Mount Vernon archaeologists unearthed from 
 under the Mansion in 2024! The Mount Vernon archeology team will talk abo
 ut how this extraordinary discovery provides a powerful glimpse into 18th
  century culture. Light refreshments will be served. $30 per person\; one
  drink ticket included. Proceeds to benefit the City of Alexandria?s 2025
  George Washington Birthday Celebration. \n<br />6:30 reception\, 7-8 p.m
 . lecture. \n<br />\n<br />\n<br />Location: Lyceum\n<br />Fees: $30/per 
 person\n<br />Audience: Anyone may attend\n<br />Tags: Lyceum\, Museums<b
 r>\n<a href="https://crm.bloomerang.co/HostedDonation?ApiKey=pub_85748919
 -f16e-11ec-be05-02d341daa68d&amp\;WidgetId=15755264">Purchase event ticke
 t</a><br>\n
X-COA-DTSTAMP:20250318T185537Z
END:VEVENT
END:VCALENDAR
