BEGIN:VCALENDAR
CALSCALE:GREGORIAN
METHOD:PUBLISH
PRODID:-//github.com/ical-org/ical.net//NONSGML ical.net 4.0//EN
VERSION:2.0
X-WR-TIMEZONE:US/Eastern
BEGIN:VEVENT
DESCRIPTION:To verify info please see https://apps.alexandriava.gov/Calend
 ar/Detail.aspx?si=58792\n\nJoin City\, youth\, and community leaders for 
 a press conference at Alexandria City High School Room A-127 to kick-off 
 Take Down Tobacco Day\, a youth-led event raising awareness about the leg
 al consequences of providing  to minors. Following the press conference\,
  teams of youth and adults will educate about the legal consequences of p
 roviding tobacco to persons under 21.\n \nThis event is hosted by the Sub
 stance Abuse Prevention Coalition of Alexandria (SAPCA)\, the Alexandria 
 Police Department\; the Alexandria Sheriff's Office\; the Department of C
 ommunity and Human Services\; the Department of Recreation\, Parks & Cult
 ural Activities\; and the Alexandria City High School U.S. Army Junior Re
 serve Officers' Training Corps (JROTC) program.\n\nLocation: Alexandria C
 ity High School Campus\, 3330 King St.\nAudience: Anyone may attend\n\nWe
 b resources:\n\nLearn more about this event.\nhttps://www.alexandriava.go
 v/SAPCA\n
DTEND:20250401T220000Z
DTSTAMP:20260304T143640Z
DTSTART:20250401T200000Z
GEO:38.824697;-77.084509
LOCATION:Alexandria City High School Campus\, 3330 King St.
SEQUENCE:7
STATUS:CONFIRMED
SUMMARY:Take Down Tobacco Day Kick Off
TRANSP:OPAQUE
UID:23c382c1-8ec9-48e6-85f2-27b40416e988
URL:https://www.alexandriava.gov/SAPCA
X-ALT-DESC;FMTTYPE=text/html:To verify info please see <a href="https://ap
 ps.alexandriava.gov/Calendar/Detail.aspx?si=58792">https://apps.alexandri
 ava.gov/Calendar/Detail.aspx?si=58792</a><br />\n<br />Join City\, youth\
 , and community leaders for a press conference at Alexandria City High Sc
 hool Room A-127 to kick-off Take Down Tobacco Day\, a youth-led event rai
 sing awareness about the legal consequences of providing  to minors. Foll
 owing the press conference\, teams of youth and adults will educate about
  the legal consequences of providing tobacco to persons under 21.\n<br />
  \n<br />This event is hosted by the Substance Abuse Prevention Coalition
  of Alexandria (SAPCA)\, the Alexandria Police Department\; the Alexandri
 a Sheriff?s Office\; the Department of Community and Human Services\; the
  Department of Recreation\, Parks &amp\; Cultural Activities\; and the Al
 exandria City High School U.S. Army Junior Reserve Officers&#39\; Trainin
 g Corps (JROTC) program.\n<br />\n<br />Location: Alexandria City High Sc
 hool Campus\, 3330 King St.\n<br />Audience: Anyone may attend<br>\n<a hr
 ef="https://www.alexandriava.gov/SAPCA">Learn more about this event.</a><
 br>\n
X-COA-DTSTAMP:20260304T143640Z
END:VEVENT
END:VCALENDAR
