BEGIN:VCALENDAR
CALSCALE:GREGORIAN
METHOD:PUBLISH
PRODID:-//github.com/ical-org/ical.net//NONSGML ical.net 4.0//EN
VERSION:2.0
X-WR-TIMEZONE:US/Eastern
BEGIN:VEVENT
DESCRIPTION:To verify info please see https://apps.alexandriava.gov/Calend
 ar/Detail.aspx?si=58790\n\nMark your calendars! RecFest 2025 is happening
  on Saturday\, May 3\, from 10 a.m.-2 p.m. at Patrick Henry Recreation Ce
 nter - and you won't want to miss it!\n\nGet ready for a day packed with 
 excitement as we showcase everything recreation has to offer! From games 
 and sports to arts and nature activities\, there's something for everyone
 . Enjoy delicious food\, live music from a DJ\, interactive experiences\,
  and special features from other City of Alexandria departments.\n\nWheth
 er you're looking to try something new\, connect with the community\, or 
 just have fun\, RecFest 2025 is the place to be. Bring your family\, frie
 nds\, and neighbors\, and join us for a day of discovery\, play\, and adv
 enture!\n\nVisit the link below for more details on activities\, entertai
 nment\, and special guests.\n\nWe'll see you at RecFest! \n\nLocation: Pa
 trick Henry Recreation Center\, 4653 Taney Ave.\nContact Person: Gladston
 e Harriott\nContact Phone: 703.746.5557\nContact Email: gladstone.harriot
 t@alexandriava.gov\nAudience: Anyone may attend\n\nWeb resources:\n\nRPCA
 's RecFest\nhttps://www.alexandriava.gov/rpca/recfest\nLearn more about R
 PCA's FREE event at Patrick Henry Recreation Center!\n\nRPCA Website\nhtt
 ps://www.alexandriava.gov/Recreation\nFind out more about the Department 
 of Recreation\, Parks & Cultural Activities (RPCA).\n\nRPCA Social Media\
 nhttps://www.alexandriava.gov/Recreation#ConnectwithUs\nFollow us on Inst
 agram\, Facebook\, & Twitter!\n
DTEND:20250503T180000Z
DTSTAMP:20260309T185348Z
DTSTART:20250503T140000Z
GEO:38.816255;-77.111492
LOCATION:Patrick Henry Recreation Center\, 4653 Taney Ave.
SEQUENCE:7
STATUS:CONFIRMED
SUMMARY:Rec Fest 2025
TRANSP:TRANSPARENT
UID:aaba1b2b-73c9-4b59-a3c8-936c44033848
URL:https://www.alexandriava.gov/rpca/recfest
X-ALT-DESC;FMTTYPE=text/html:To verify info please see <a href="https://ap
 ps.alexandriava.gov/Calendar/Detail.aspx?si=58790">https://apps.alexandri
 ava.gov/Calendar/Detail.aspx?si=58790</a><br />\n<br />Mark your calendar
 s! RecFest 2025 is happening on Saturday\, May 3\, from 10 a.m.-2 p.m. at
  Patrick Henry Recreation Center ? and you won?t want to miss it!\n<br />
 \n<br />Get ready for a day packed with excitement as we showcase everyth
 ing recreation has to offer! From games and sports to arts and nature act
 ivities\, there?s something for everyone. Enjoy delicious food\, live mus
 ic from a DJ\, interactive experiences\, and special features from other 
 City of Alexandria departments.\n<br />\n<br />Whether you?re looking to 
 try something new\, connect with the community\, or just have fun\, RecFe
 st 2025 is the place to be. Bring your family\, friends\, and neighbors\,
  and join us for a day of discovery\, play\, and adventure!\n<br />\n<br 
 />Visit the link below for more details on activities\, entertainment\, a
 nd special guests.\n<br />\n<br />We?ll see you at RecFest! \n<br />\n<br
  />Location: Patrick Henry Recreation Center\, 4653 Taney Ave.\n<br />Con
 tact Person: Gladstone Harriott\n<br />Contact Phone: 703.746.5557\n<br /
 >Contact Email: gladstone.harriott@alexandriava.gov\n<br />Audience: Anyo
 ne may attend<br>\n<a href="https://www.alexandriava.gov/rpca/recfest">RP
 CA&#39\;s RecFest</a><br>\nLearn more about RPCA&#39\;s FREE event at Pat
 rick Henry Recreation Center!<br>\n<a href="https://www.alexandriava.gov/
 Recreation">RPCA Website</a><br>\nFind out more about the Department of R
 ecreation\, Parks &amp\; Cultural Activities (RPCA).<br>\n<a href="https:
 //www.alexandriava.gov/Recreation#ConnectwithUs">RPCA Social Media</a><br
 >\nFollow us on Instagram\, Facebook\, &amp\; Twitter!<br>\n
X-COA-DTSTAMP:20260309T185348Z
END:VEVENT
END:VCALENDAR
