BEGIN:VCALENDAR
CALSCALE:GREGORIAN
METHOD:PUBLISH
PRODID:-//github.com/ical-org/ical.net//NONSGML ical.net 4.0//EN
VERSION:2.0
X-WR-TIMEZONE:US/Eastern
BEGIN:VEVENT
CATEGORIES:City Council
CATEGORIES:City Council Calendar
CATEGORIES:Community Engagement
DESCRIPTION:To verify info please see https://apps.alexandriava.gov/Calend
 ar/Detail.aspx?si=58789\n\nMayor Alyia Gaskins\, Vice Mayor Sarah Bagley\
 , and all members of City Council will be present to speak about the issu
 es impacting you and your family. You can also get the latest news on upc
 oming projects and initiatives in Alexandria. Spanish\, Amharic\, and Ara
 bic interpretation services will be available at the event.\n\nLocation: 
 Del Pepper Community Resource Center\, 4850 Mark Center Drive\nContact Pe
 rson: Ebony Fleming\nContact Phone: 703.746.3965\nContact Email: newsroom
 @alexandriava.gov\nAudience: Anyone may attend\nTags: City Council\, City
  Council Calendar\, Community Engagement\n\nWeb resources:\n\nSubmit a Qu
 estion and Register to Attend In-Person\nhttps://www.research.net/r/Alexa
 ndriaVA-TownHallMar29RSVP\n
DTEND:20250329T190000Z
DTSTAMP:20250324T200409Z
DTSTART:20250329T170000Z
LOCATION:Del Pepper Community Resource Center\, 4850 Mark Center Drive
SEQUENCE:9
STATUS:CONFIRMED
SUMMARY:City Council Town Hall
TRANSP:OPAQUE
UID:36898012-7fd7-48fd-aa38-0bbf2f98cf84
URL:https://www.research.net/r/AlexandriaVA-TownHallMar29RSVP
X-ALT-DESC;FMTTYPE=text/html:To verify info please see <a href="https://ap
 ps.alexandriava.gov/Calendar/Detail.aspx?si=58789">https://apps.alexandri
 ava.gov/Calendar/Detail.aspx?si=58789</a><br />\n<br />Mayor Alyia Gaskin
 s\, Vice Mayor Sarah Bagley\, and all members of City Council will be pre
 sent to speak about the issues impacting you and your family. You can als
 o get the latest news on upcoming projects and initiatives in Alexandria.
  Spanish\, Amharic\, and Arabic interpretation services will be available
  at the event.\n<br />\n<br />Location: Del Pepper Community Resource Cen
 ter\, 4850 Mark Center Drive\n<br />Contact Person: Ebony Fleming\n<br />
 Contact Phone: 703.746.3965\n<br />Contact Email: newsroom@alexandriava.g
 ov\n<br />Audience: Anyone may attend\n<br />Tags: City Council\, City Co
 uncil Calendar\, Community Engagement<br>\n<a href="https://www.research.
 net/r/AlexandriaVA-TownHallMar29RSVP">Submit a Question and Register to A
 ttend In-Person</a><br>\n
X-COA-DTSTAMP:20250324T200409Z
END:VEVENT
END:VCALENDAR
