BEGIN:VCALENDAR
CALSCALE:GREGORIAN
METHOD:PUBLISH
PRODID:-//github.com/ical-org/ical.net//NONSGML ical.net 4.0//EN
VERSION:2.0
X-WR-TIMEZONE:US/Eastern
BEGIN:VEVENT
CATEGORIES:AEDP
CATEGORIES:City Council Calendar
CATEGORIES:Community Meeting
CATEGORIES:Community Outreach
DESCRIPTION:To verify info please see https://apps.alexandriava.gov/Calend
 ar/Detail.aspx?si=58787\n\nAttend to:\n?Learn what economic development l
 ooks like in Alexandria\, who leads local economic development efforts\, 
 and how that impacts you\n?Gain a deeper understanding of economic trends
 \, and what that means for Alexandria\n?Celebrate past successes\, and lo
 ok to future opportunities \n?Contribute to the conversation about your c
 ommunity's economic growth \n?Find out how to get involved in local econo
 mic development\n\nFor more information\, visit https://www.alexandriava.
 gov/EconomicSummit\n\n\nLocation: Westin Alexandria\nContact Person: Liz 
 Bolton\nContact Email: bolton@alexandriaecon.org\nAudience: Anyone may at
 tend\nTags: AEDP\, City Council Calendar\, Community Meeting\, Community 
 Outreach\n\nWeb resources:\n\nRegister to Attend\nhttps://lp.constantcont
 actpages.com/ev/reg/3ep7z96\n
DTEND:20250508T230000Z
DTSTAMP:20250407T155743Z
DTSTART:20250508T190000Z
LOCATION:Westin Alexandria
SEQUENCE:11
STATUS:CONFIRMED
SUMMARY:Alexandria Economic Summit
TRANSP:OPAQUE
UID:60cc259e-2b65-459e-b299-29a02a42563c
URL:https://lp.constantcontactpages.com/ev/reg/3ep7z96
X-ALT-DESC;FMTTYPE=text/html:To verify info please see <a href="https://ap
 ps.alexandriava.gov/Calendar/Detail.aspx?si=58787">https://apps.alexandri
 ava.gov/Calendar/Detail.aspx?si=58787</a><br />\n<br />Attend to:\n<br />
 ?Learn what economic development looks like in Alexandria\, who leads loc
 al economic development efforts\, and how that impacts you\n<br />?Gain a
  deeper understanding of economic trends\, and what that means for Alexan
 dria\n<br />?Celebrate past successes\, and look to future opportunities 
 \n<br />?Contribute to the conversation about your community?s economic g
 rowth \n<br />?Find out how to get involved in local economic development
 \n<br />\n<br />For more information\, visit <a href="https://www.alexand
 riava.gov/EconomicSummit">https://www.alexandriava.gov/EconomicSummit</a>
 <br />\n<br />\n<br />Location: Westin Alexandria\n<br />Contact Person: 
 Liz Bolton\n<br />Contact Email: bolton@alexandriaecon.org\n<br />Audienc
 e: Anyone may attend\n<br />Tags: AEDP\, City Council Calendar\, Communit
 y Meeting\, Community Outreach<br>\n<a href="https://lp.constantcontactpa
 ges.com/ev/reg/3ep7z96">Register to Attend</a><br>\n
X-COA-DTSTAMP:20250407T155743Z
END:VEVENT
END:VCALENDAR
