BEGIN:VCALENDAR
CALSCALE:GREGORIAN
METHOD:PUBLISH
PRODID:-//github.com/ical-org/ical.net//NONSGML ical.net 4.0//EN
VERSION:2.0
X-WR-TIMEZONE:US/Eastern
BEGIN:VEVENT
CATEGORIES:Employment
CATEGORIES:Workforce Development
DESCRIPTION:To verify info please see https://apps.alexandriava.gov/Calend
 ar/Detail.aspx?si=58783\n\nCongressman Don Beyer\, in partnership with th
 e City of Alexandria\, the City of Falls Church\, Arlington County\, and 
 Fairfax County\, will host a pop-up resource fair to access vital service
 s including:\n\n- Unemployment assistance\n- Mental health support\n- Hou
 sing information\n- Food aid\n- Information on federal workers rights\n\n
 Location: Wakefield High School\, 1325 S. Dinwiddie Street\nAudience: Any
 one may attend\nTags: Employment\, Workforce Development
DTEND:20250308T220000Z
DTSTAMP:20250228T164033Z
DTSTART:20250308T170000Z
LOCATION:Wakefield High School\, 1325 S. Dinwiddie Street
SEQUENCE:6
STATUS:CONFIRMED
SUMMARY:Resource Fair for Federal Workers and Contractors
TRANSP:OPAQUE
UID:b9cc1d21-064f-4160-a189-c1bdfea67c01
X-ALT-DESC;FMTTYPE=text/html:To verify info please see <a href="https://ap
 ps.alexandriava.gov/Calendar/Detail.aspx?si=58783">https://apps.alexandri
 ava.gov/Calendar/Detail.aspx?si=58783</a><br />\n<br />Congressman Don Be
 yer\, in partnership with the City of Alexandria\, the City of Falls Chur
 ch\, Arlington County\, and Fairfax County\, will host a pop-up resource 
 fair to access vital services including:\n<br />\n<br />- Unemployment as
 sistance\n<br />- Mental health support\n<br />- Housing information\n<br
  />- Food aid\n<br />- Information on federal workers rights\n<br />\n<br
  />Location: Wakefield High School\, 1325 S. Dinwiddie Street\n<br />Audi
 ence: Anyone may attend\n<br />Tags: Employment\, Workforce Development
X-COA-DTSTAMP:20250228T164033Z
END:VEVENT
END:VCALENDAR
