BEGIN:VCALENDAR
CALSCALE:GREGORIAN
METHOD:PUBLISH
PRODID:-//github.com/ical-org/ical.net//NONSGML ical.net 4.0//EN
VERSION:2.0
X-WR-TIMEZONE:US/Eastern
BEGIN:VEVENT
CATEGORIES:Real Estate Tax
DESCRIPTION:To verify info please see https://apps.alexandriava.gov/Calend
 ar/Detail.aspx?si=58766\n\nPursuant to Section 58.1-3378 of the Code of V
 irginia\, the Board of Equalization and Assessment Review for the City of
  Alexandria will convene to hear complaints of inequalities wherein the p
 roperty owners allege a lack of equity or uniformity in assessment\, erro
 rs in fact in such real estate assessments\, or that the real property as
 sessment is not assessed at fair market value. Upon hearing such complain
 ts\, the Board is legally authorized to INCREASE\, DECREASE OR AFFIRM suc
 h real estate assessments.\n\nParticipants can attend via Zoom Webinar or
  in person in room 3008\, City Hall\, 301 King Street\, Alexandria\, VA. 
  The 2024 hearing dates were previously advertised. The office has added 
 the following date:\n\nApril 1st\, 2025 - 9 a.m. to 11 a.m.\n\nThe deadli
 ne for filing an appeal was June 3\, 2024\, however\, this appeal deadlin
 e is not applicable to appeals of assessments for newly constructed real 
 estate pursuant to Virginia Code 59.1-3292.\n\nDockets for each hearing m
 ay be obtained by contacting the Office of Real Estate Assessments\, 301 
 King Street\, City Hall Room 2600\, Alexandria VA 22313\, between the hou
 rs of 8 a.m. and 5 p.m.\, Monday through Friday\, via email to realestate
 @alexandriava.gov or by calling 703.746.4646.\n\n\nLocation: City Hall\, 
 Room 3008\, 301 King St.\nContact Person: Real Estate\nContact Phone: 703
 .746.4646\nContact Email: realestate@alexandriava.gov\nAudience: Anyone m
 ay attend\nTags: Real Estate Tax
DTEND:20250401T150000Z
DTSTAMP:20250226T160824Z
DTSTART:20250401T130000Z
GEO:38.805153;-77.042978
LOCATION:City Hall\, Room 3008\, 301 King St.
SEQUENCE:6
STATUS:CONFIRMED
SUMMARY:Board of Equalization Hearing
TRANSP:TRANSPARENT
UID:c5a23165-ee17-490f-8d5a-f52b3f9d6dd1
X-ALT-DESC;FMTTYPE=text/html:To verify info please see <a href="https://ap
 ps.alexandriava.gov/Calendar/Detail.aspx?si=58766">https://apps.alexandri
 ava.gov/Calendar/Detail.aspx?si=58766</a><br />\n<br />Pursuant to Sectio
 n 58.1-3378 of the Code of Virginia\, the Board of Equalization and Asses
 sment Review for the City of Alexandria will convene to hear complaints o
 f inequalities wherein the property owners allege a lack of equity or uni
 formity in assessment\, errors in fact in such real estate assessments\, 
 or that the real property assessment is not assessed at fair market value
 . Upon hearing such complaints\, the Board is legally authorized to INCRE
 ASE\, DECREASE OR AFFIRM such real estate assessments.\n<br />\n<br />Par
 ticipants can attend via Zoom Webinar or in person in room 3008\, City Ha
 ll\, 301 King Street\, Alexandria\, VA.  The 2024 hearing dates were prev
 iously advertised. The office has added the following date:\n<br />\n<br 
 />April 1st\, 2025 ? 9 a.m. to 11 a.m.\n<br />\n<br />The deadline for fi
 ling an appeal was June 3\, 2024\, however\, this appeal deadline is not 
 applicable to appeals of assessments for newly constructed real estate pu
 rsuant to Virginia Code 59.1-3292.\n<br />\n<br />Dockets for each hearin
 g may be obtained by contacting the Office of Real Estate Assessments\, 3
 01 King Street\, City Hall Room 2600\, Alexandria VA 22313\, between the 
 hours of 8 a.m. and 5 p.m.\, Monday through Friday\, via email to realest
 ate@alexandriava.gov or by calling 703.746.4646.\n<br />\n<br />\n<br />L
 ocation: City Hall\, Room 3008\, 301 King St.\n<br />Contact Person: Real
  Estate\n<br />Contact Phone: 703.746.4646\n<br />Contact Email: realesta
 te@alexandriava.gov\n<br />Audience: Anyone may attend\n<br />Tags: Real 
 Estate Tax
X-COA-DTSTAMP:20250226T160824Z
END:VEVENT
END:VCALENDAR
