BEGIN:VCALENDAR
CALSCALE:GREGORIAN
METHOD:PUBLISH
PRODID:-//github.com/ical-org/ical.net//NONSGML ical.net 4.0//EN
VERSION:2.0
X-WR-TIMEZONE:US/Eastern
BEGIN:VEVENT
CATEGORIES:Emergency Preparedness
DESCRIPTION:To verify info please see https://apps.alexandriava.gov/Calend
 ar/Detail.aspx?si=58741\n\nIf you are interested and would like to attend
 \, please register by clicking the link below by providing some basic inf
 ormation. Please fill everything out thoroughly. Once you have registered
 \, you will be sent a confirmation email of your attendance. If you have 
 any questions about registration\, please email lwx-report@noaa.gov or ca
 ll 571-888-3500.\n\nLocation: VirginiaTech - Oakville Triangle Location\n
 Contact Person: Marc Barbiere\nContact Phone: 703.746.5220\nContact Email
 : marc.barbiere@alexandriava.gov\nAudience: Anyone may attend\nTags: Emer
 gency Preparedness\n\nWeb resources:\n\nNWS Skywarn Registration\nhttps:/
 /docs.google.com/forms/d/1jzmwKEmuUuc05gURnol0ZU_aEg1p5J3A3Rq9MOIvISs/pre
 view\nSkywarn classes are designed to educate the public on weather threa
 ts in their community\, as well as strengthen the ties between the NWS an
 d the local community. \n
DTEND:20250307T010000Z
DTSTAMP:20250221T141810Z
DTSTART:20250306T230000Z
GEO:38.829530;-77.051380
LOCATION:VirginiaTech - Oakville Triangle Location
SEQUENCE:7
STATUS:CONFIRMED
SUMMARY:National Weather Service (NWS) Basic Skywarn Class
TRANSP:TRANSPARENT
UID:79009d7b-4e26-4311-8006-2873173c0757
URL:https://docs.google.com/forms/d/1jzmwKEmuUuc05gURnol0ZU_aEg1p5J3A3Rq9M
 OIvISs/preview
X-ALT-DESC;FMTTYPE=text/html:To verify info please see <a href="https://ap
 ps.alexandriava.gov/Calendar/Detail.aspx?si=58741">https://apps.alexandri
 ava.gov/Calendar/Detail.aspx?si=58741</a><br />\n<br />If you are interes
 ted and would like to attend\, please register by clicking the link below
  by providing some basic information. Please fill everything out thorough
 ly. Once you have registered\, you will be sent a confirmation email of y
 our attendance. If you have any questions about registration\, please ema
 il lwx-report@noaa.gov or call 571-888-3500.\n<br />\n<br />Location: Vir
 giniaTech - Oakville Triangle Location\n<br />Contact Person: Marc Barbie
 re\n<br />Contact Phone: 703.746.5220\n<br />Contact Email: marc.barbiere
 @alexandriava.gov\n<br />Audience: Anyone may attend\n<br />Tags: Emergen
 cy Preparedness<br>\n<a href="https://docs.google.com/forms/d/1jzmwKEmuUu
 c05gURnol0ZU_aEg1p5J3A3Rq9MOIvISs/preview">NWS Skywarn Registration</a><b
 r>\nSkywarn classes are designed to educate the public on weather threats
  in their community\, as well as strengthen the ties between the NWS and 
 the local community. <br>\n
X-COA-DTSTAMP:20250221T141810Z
END:VEVENT
END:VCALENDAR
